BEGIN:VCALENDAR
VERSION:2.0
PRODID:-//Ballonfabrik fabrik unique - ECPv6.15.17.1//NONSGML v1.0//EN
CALSCALE:GREGORIAN
METHOD:PUBLISH
X-ORIGINAL-URL:https://ballonfabrik.org
X-WR-CALDESC:Veranstaltungen für Ballonfabrik fabrik unique
REFRESH-INTERVAL;VALUE=DURATION:PT1H
X-Robots-Tag:noindex
X-PUBLISHED-TTL:PT1H
BEGIN:VTIMEZONE
TZID:Europe/Berlin
BEGIN:DAYLIGHT
TZOFFSETFROM:+0100
TZOFFSETTO:+0200
TZNAME:CEST
DTSTART:20230326T010000
END:DAYLIGHT
BEGIN:STANDARD
TZOFFSETFROM:+0200
TZOFFSETTO:+0100
TZNAME:CET
DTSTART:20231029T010000
END:STANDARD
BEGIN:DAYLIGHT
TZOFFSETFROM:+0100
TZOFFSETTO:+0200
TZNAME:CEST
DTSTART:20240331T010000
END:DAYLIGHT
BEGIN:STANDARD
TZOFFSETFROM:+0200
TZOFFSETTO:+0100
TZNAME:CET
DTSTART:20241027T010000
END:STANDARD
BEGIN:DAYLIGHT
TZOFFSETFROM:+0100
TZOFFSETTO:+0200
TZNAME:CEST
DTSTART:20250330T010000
END:DAYLIGHT
BEGIN:STANDARD
TZOFFSETFROM:+0200
TZOFFSETTO:+0100
TZNAME:CET
DTSTART:20251026T010000
END:STANDARD
BEGIN:DAYLIGHT
TZOFFSETFROM:+0100
TZOFFSETTO:+0200
TZNAME:CEST
DTSTART:20260329T010000
END:DAYLIGHT
BEGIN:STANDARD
TZOFFSETFROM:+0200
TZOFFSETTO:+0100
TZNAME:CET
DTSTART:20261025T010000
END:STANDARD
END:VTIMEZONE
BEGIN:VEVENT
DTSTART;TZID=Europe/Berlin:20241231T230000
DTEND;TZID=Europe/Berlin:20250101T070000
DTSTAMP:20260423T123047
CREATED:20240607T091955Z
LAST-MODIFIED:20241223T135324Z
UID:7884-1735686000-1735714800@ballonfabrik.org
SUMMARY:DUBYLONFABRIK: Silvester-Soundsystem-Conference | Dub & Reggae
DESCRIPTION:DUBYLONFABRIK Vol. 11: Silvester-Soundsystem-Conference | 23:00 Uhr – 07:00 Uhr | Eintritt: 9 EUR | hosted by DubylonCrew\nD U B | R E G G A E | S T E P P E R S\nAn Silvester laden wir zur Dubylonfabrik-Soundsystem-Conference! Mit zwei Sounds werden wir basslastig ins neue Jahr steppen! Mit kleiner Afterhour bis 07.00 Uhr morgens.\n\nLINE-UP:\n\nHarmonic Soundsystem (Dub Club Allgäu)\nFarmer Soundsystem (Regensburg)\nAmando\nMC Layla\n\n\nF a r m e r   S o u n d s y s t e m\nDas Farmer Soundsystem ist ein Quartett aus Regensburg\, das mit Vorliebe Vinyl spielt und von Roots Reggae bis digitalem Stepper alles zu bieten hat\, was Dub-Herzen erfüllt. Die Farmers bringen auf den Dances aber nicht nur Platten\, sondern auch 3 MCs\, einen Percussionisten und hausgemachte Produktionen vom Feld mit. Am wichtigsten ist ihnen dabei die Message: Liebevoll\, umweltbewusst und antifaschistisch. Mit am Start ist die Regensburger Sängerin Layla Carter\, die am Mikrofon tatkräftig unterstützen wird.“\nH a r m o n i c   S o u n d s y s t e m\nBabylon make I&I militant and I&I weapons are love\, peace and harmony – that’s the spirit of Harmonic Soundsystem.Harmonic Soundsystem was originally founded by Ras Mikey-i in 2018 and is now also powered by his Lioness Susi Dub and Bredda Dominic. When you join Harmonic Soundsystem for a session be prepared for an inspirational journey full of heavy bassline and irie vibes. The special thing about Dub music is that you cannot only hear it but you can also feel it.\n\nL a y l a\nLayla\, eine junge Jazzsängerin\, entdeckte durch die Farmer Soundsystem Crew in Regensburg ihre Leidenschaft für Roots\, harten Steppa und die Sound System Culture. Ihre einzigartige MC-Technik kombiniert klare Statements mit verspielten Jazz-Elementen\, die buchstäblich in Trance versetzen. Neben Jazz fließen auch wilde Jungle Breaks\, DnB\, UK Breaks und Ghetto Tech in ihren Stil ein. Gemeinsam mit dem Weiden DJ Ecliptix hatte sie ihre ersten Auftritte als DnB MC auf Veranstaltungen wie DotBass und anderen basslastigen Events.\n\nA m a n d o\n\nAmando ist MC\, Selekta und Producer vom Soundsystem Farmer Sound aus Regensburg. Meist als MC mit verschiedenen Soundsystemen zu hören\, steht er trotzdem auch gerne selbst an den Plattentellern\, um von Roots bis Stepper eine vielseitige\, basshaltige Selection zu spielen. Für die Zukunft will er seinen Fokus auf’s Livedubben eigener Produktionen lenken und produziert aktuell neben einem Album\, auf dem vorwiegend Roots-Tunes zu hören sein werden\,auch an neuen digitaleren Dub-Produktionen\, bei denen er aber auch gerne mal zu analogen Instrumenten greift. \nWeniger anzeigen
URL:https://ballonfabrik.org/veranstaltungen/dubylonfabrik-silvester-soundsystem-conference/
LOCATION:Ballonfabrik\, Austraße 27\, Augsburg\, Germany
CATEGORIES:Dub,Reggae,Steppers
ATTACH;FMTTYPE=image/jpeg:https://ballonfabrik.org/wp-content/uploads/2024/06/IMG_9868-scaled.jpeg
END:VEVENT
BEGIN:VEVENT
DTSTART;TZID=Europe/Berlin:20250104T210000
DTEND;TZID=Europe/Berlin:20250105T050000
DTSTAMP:20260423T123047
CREATED:20240904T050646Z
LAST-MODIFIED:20260313T163444Z
UID:8586-1736024400-1736053200@ballonfabrik.org
SUMMARY:AUSVERKAUFT! Cosmic Connection
DESCRIPTION:Update: Die Veranstaltung ist ausverkauft!\nWir heben auch 2025 wieder ab… Cosmic Temptation und Cosmic Music presents „The Cosmic Connection“ in der Ballonfabrik Augsburg .\nDiesmal mit an Board : \n\nDJ Amix\nDJ Chris DvM (Sommernächte)\nDJ Hänk (Cosmic Temptation)\nDJ Micky (Cosmic Music Augsburg)\nDJ Yamanu & Samoa (Plattform 6)\nDJ Makah (Innsbruck)\n\n– Special Schwarzlicht Deko – Freibier von 21 Uhr -22 Uhr – Lagerfeuer Vorverkauf startet demnächst.. Wir freuen uns auf euch.
URL:https://ballonfabrik.org/veranstaltungen/cosmic-connection/
LOCATION:Ballonfabrik\, Austraße 27\, Augsburg\, Germany
CATEGORIES:Cosmic
END:VEVENT
BEGIN:VEVENT
DTSTART;TZID=Europe/Berlin:20250110T193000
DTEND;TZID=Europe/Berlin:20250111T010000
DTSTAMP:20260423T123047
CREATED:20240923T144046Z
LAST-MODIFIED:20250106T012719Z
UID:8942-1736537400-1736557200@ballonfabrik.org
SUMMARY:POGO-TANZ-VERANSTALTUNG [AK]
DESCRIPTION:POGO-TANZ-VERANSTALTUNG!\nPunk/Punk-Rock \nLINE-UP:\nDonnerbalken-Geflüster\nPunk aus Augburg: Nach vielen Jahren wieder auf der Bühne. Spaßpunk\, also nix für Ernste und Engstirnige! \nJohn Doe and the Black Birds\nPunk-Rock aus Donauwörth lädt zum gschmeidigen Pogo ein\, mit oder ohne Tanzschuhe. \nLocal Riot\nWaschechte Lokals aus Augsburg \, die mit tiefer Stimme – und harten\, jedoch melodischem Sound – für Hüftschwünge sorgen. \nScumbag Roads\nDie Günzburger treiben – mit reichlich Groove in ihren Lyrics – die Meute in Ekstase 😉
URL:https://ballonfabrik.org/veranstaltungen/pogo-tanz-veranstaltung/
LOCATION:Ballonfabrik\, Austraße 27\, Augsburg\, Germany
ATTACH;FMTTYPE=image/jpeg:https://ballonfabrik.org/wp-content/uploads/2024/09/pogo_tanz.jpeg
END:VEVENT
BEGIN:VEVENT
DTSTART;TZID=Europe/Berlin:20250111T190000
DTEND;TZID=Europe/Berlin:20250112T010000
DTSTAMP:20260423T123047
CREATED:20240208T052332Z
LAST-MODIFIED:20250106T012748Z
UID:6622-1736622000-1736643600@ballonfabrik.org
SUMMARY:BALLS ON FABRIK X [AK]
DESCRIPTION:Balls on Fabrik X\n  \nWieder mal ein Konzerterlebnis wie in den 80/90ern gefällig\nDann seid ihr bei uns richtig.\nKeine 7 Stunden der gleiche Krach in unterschiedlichen Tüten.\nHier wird Abwechslung garantiert.\nHier geben sich die Hit-Garanten das Mikro in die Hand.\nIn unserer Jubiläumsausgabe unterhalten euch folgende Musikanten: \nDEADFREIGHT OF SOUL\nhttps://www.facebook.com/deadfreightofsoul \n  \nINHALED SCREAMS\nhttps://www.facebook.com/inhaledscreams\nhttps://www.youtube.com/@inhaledscreams \n  \nCRYPTIC\nhttps://www.facebook.com/crypticporngrind \nAVATOR\nhttps://www.facebook.com/avator.de \nBasement Unleashed – Live von AVATOR \nand introducing: \nCONCRETE COFFIN
URL:https://ballonfabrik.org/veranstaltungen/balls-on-fabrik-x/
LOCATION:Ballonfabrik\, Austraße 27\, Augsburg\, Germany
CATEGORIES:Death-Metal,Grindcore,Thrash-Metal
ATTACH;FMTTYPE=image/jpeg:https://ballonfabrik.org/wp-content/uploads/2024/02/balls_on_fabrik.jpeg
END:VEVENT
BEGIN:VEVENT
DTSTART;TZID=Europe/Berlin:20250113T190000
DTEND;TZID=Europe/Berlin:20250113T230000
DTSTAMP:20260423T123047
CREATED:20241224T221114Z
LAST-MODIFIED:20250106T012805Z
UID:10291-1736794800-1736809200@ballonfabrik.org
SUMMARY:Offener Thekenabend für alle! [Eintritt frei]
DESCRIPTION:Liebe Leute\, ab sofort starten wir für euch die offenen Thekenabende. Eintritt frei!\nWir möchten uns einmal im Monat (1. Montag im Monat) zusammenfinden und bei gemütlicher Atmosphäre einen Abend mit Freund*innen\nverbringen. Es gibt günstige\, kühle/warme Getränke entsprechend der Jahreszeit und ein leckeres Essen auf Spendenbasis. Wir möchten an diesem Abend die Community und den Austausch zwischen Verein und\nGästen stärken sowie unser Vereinsleben ein wenig vorstellen. Kommt dazu einfach vorbei!\nWas machen wir sonst als Verein? Was würde dich als Mitglied erwarten?\nWir lieben Musik\, Subkultur Gemeinschaft und arbeiten grundsätzlich ehrenamtlich. Bei uns läuft alles DIY und selbstverwaltet\, es gibt also immer was zu tun. Es ist auf jeden Fall was für dich\, wenn du:\n\n\nerleben möchtest\, wie man Veranstaltungen plant und organisiert\nsehen willst\, wie man einen Club instandhält und verwaltet\nwissen möchtest\, wie wir unser online/offline-marketing betreiben und wie du mitmachen kannst\nSpaß am Kochen für Bands hast\ngerne Bier ausschenkst oder am Einlass unterstützt\ndich für Licht- oder Tontechnik interessierst\noder einfach nur Lust auf Gemeinschaft hast.\n\n\nWenn da was dabei ist\, was dich interessieren würde\, komm gerne vorbei und lerne uns kennen: Am besten\nzu den offenen Thekenabenden jeden 1. Montag im Monat um 19.00 oder zum öffentlichen Orga-Plenum\njeden Dienstag um 18.30.\nWir freuen uns auf euch!
URL:https://ballonfabrik.org/veranstaltungen/offener-thekenabend-fuer-alle-2/
CATEGORIES:Kneipe
ATTACH;FMTTYPE=image/jpeg:https://ballonfabrik.org/wp-content/uploads/2024/12/signal-2024-12-28-20-36-29-605.jpg
END:VEVENT
BEGIN:VEVENT
DTSTART;TZID=Europe/Berlin:20250117T203000
DTEND;TZID=Europe/Berlin:20250118T050000
DTSTAMP:20260423T123047
CREATED:20241104T070158Z
LAST-MODIFIED:20250113T041710Z
UID:9531-1737145800-1737176400@ballonfabrik.org
SUMMARY:MIND NIGHT 2 [AK]
DESCRIPTION:MIND NIGHT 2  |  Doors: 20:30 |  Beginn: 21:15\n\nlorenzmorenz präsentiert: MIND NIGHT 2! Am 17.01.2025 wird die Ballonfabrik Bühne für neuen\, frischen Sound aus Augsburg und Umgebung!  Von modernem Rap bis hin zu Synth-Pop\, über Industrial und Techno ist hier alles mögliche geboten. Zu sehen sind LORENZMORENZ\, Valence\, Kasheeey\, Sirius Plain\, 4oreverfriday\, ARDA53 und W.Moretty.\nNicht verpassen und die junge Augsburger Musikszene unterstützen!\n\nLine Up & Timetable:\n\n21.15 – 21.45 4oreverfriday & Arda53\n(Augsburg\, Hiphop\, Rap)\n\n22.00 – 22.30 W.Moretty\n(Augsburg/Berlin\, Rap)\n\n22.45 – 23.30 Valence\, Kasheeey & Sirius Plain\n(Augsburg\, Synth-Pop\, Trance)\n\n22.45 – 0.00 LORENZMORENZ\n(Augsburg\, Experimental Hiphop)\n\n+ after concert sets (0.00 – 5.00)
URL:https://ballonfabrik.org/veranstaltungen/mind-night/
LOCATION:Ballonfabrik\, Austraße 27\, Augsburg\, Germany
CATEGORIES:HipHop,Rap,Synth-Pop,Trance
ATTACH;FMTTYPE=image/jpeg:https://ballonfabrik.org/wp-content/uploads/2024/11/mindnight-scaled.jpeg
END:VEVENT
BEGIN:VEVENT
DTSTART;TZID=Europe/Berlin:20250119T110000
DTEND;TZID=Europe/Berlin:20250119T180000
DTSTAMP:20260423T123047
CREATED:20240208T053538Z
LAST-MODIFIED:20250113T041729Z
UID:6641-1737284400-1737309600@ballonfabrik.org
SUMMARY:WE❤VINYL - Schallplattenbörse Vol.18 | Eintritt frei!
DESCRIPTION:VOL. 18 UNSERER GELIEBTEN WE ❤ VINYL-SCHALLPLATTENBÖRSE!\nPlattenspieler mit Kopfhörer steht zum Anhören bereit. Getränke wie üblich günstig sowie Kaffee & Gebäck.\nFür INFOS und ANMELDUNG eines Stands bitte Mail an: vinyl@ballonfabrik.org! ACHTUNG: 《Reservierung ist ab 1.Dezember möglich》 \nWE ❤ VINYL! WE ❤️ VINYL! WE ❤️ VINYL!\nDie Börse findet 2x pro Jahr statt. Nächster Termin: Pfingstmontag\, 09.06.2025
URL:https://ballonfabrik.org/veranstaltungen/schallplattenboerse_18/
LOCATION:Ballonfabrik\, Austraße 27\, Augsburg\, Germany
CATEGORIES:Plattenbörse
ATTACH;FMTTYPE=image/jpeg:https://ballonfabrik.org/wp-content/uploads/2024/02/vin.jpg
END:VEVENT
BEGIN:VEVENT
DTSTART;TZID=Europe/Berlin:20250124T220000
DTEND;TZID=Europe/Berlin:20250125T050000
DTSTAMP:20260423T123047
CREATED:20241024T055133Z
LAST-MODIFIED:20250119T233936Z
UID:9411-1737756000-1737781200@ballonfabrik.org
SUMMARY:TekOff Vol.2 [AK]
DESCRIPTION:TÆKOFf 2.0 steht vor der Tür! \n🚨Am 24.01 in der Ballonfabrik 🚨 \nWir dürfen euch unseren knapp 2 Jahre altes TÆKOFF Event also 2.0 Variante präsentieren. Wir werden mit neuem Flair und neuen Bekanntschaften diesen Abend legendär werden lassen.\nSeid gespannt auf verrückte Dj‘s… \n🏴‍☠️Lineup🏴‍☠️\nTIMETABLE \n21:30-23:00 PHIKATEK\n23:00-00:30 SYST23MGLITCH\n00:30-02:00 SISILISKO [CZ] – live\n02:00-03:30 WITTEK x KORNKREIS – live\n03:30-05:00 DOM2N3BASS \nVisuals werden natürlich wie immer von @ganjan unterstützt\, dass ihr auch was zum schauen habt. \nCome early stay late \n🏴‍☠️Stay Free🏴‍☠️
URL:https://ballonfabrik.org/veranstaltungen/scheiterhaufen-3/
LOCATION:Ballonfabrik\, Austraße 27\, Augsburg\, Germany
CATEGORIES:Hardtek,Tekno
ATTACH;FMTTYPE=image/jpeg:https://ballonfabrik.org/wp-content/uploads/2024/10/signal-2024-12-29-14-39-51-697.jpg
END:VEVENT
BEGIN:VEVENT
DTSTART;TZID=Europe/Berlin:20250125T200000
DTEND;TZID=Europe/Berlin:20250126T010000
DTSTAMP:20260423T123047
CREATED:20240208T052430Z
LAST-MODIFIED:20250124T220347Z
UID:6625-1737835200-1737853200@ballonfabrik.org
SUMMARY:IF THE KIDS ARE UNITED [AK]
DESCRIPTION:IF THE KIDS ARE UNITED — Einlass: 20:00 Uhr —\nWenn die Kids vereint sind… – geben sie uns ordentlich was auf die Ohren! Am 25.01.25 kommen wir zusammen für das\, was wirklich zählt im Leben: laute\, wilde Musik! „If the kids are united\, they will never be divided“ – genau so wird’s an diesem Abend: ein musikalischer Schulterschluss gegen Langeweile und die schlechte Laune des grauen Alltags. \n  \nDiesmal mit dabei:\n– Noopinion (Punkrock mit Metalkante) (GAP) \n– Four Black Lungs (Heartland Punk) (AUX/MUC) \n– WaxSugarFaceNail (Doomy Post Punk) (AUX) \n  \nWenn die Kids vereint sind… – geben sie uns ordentlich was auf die Ohren! \nAm 25.01.25 kommen wir zusammen für das\, was wirklich zählt im Leben: laute\, wilde Musik! \n  \n🔥 Noopinion (Punkrock mit Metalkante) (GAP)\n \n  \n🔥 Four Black Lungs (Heartland Punk) (AUX/MUC)\n \n  \n🔥 WaxSugarFaceNail (Doomy Post Punk) (AUX)\n \n 
URL:https://ballonfabrik.org/veranstaltungen/if-the-kids-are-united/
LOCATION:Ballonfabrik\, Austraße 27\, Augsburg\, Germany
CATEGORIES:Punk,Punk-Rock
ATTACH;FMTTYPE=image/jpeg:https://ballonfabrik.org/wp-content/uploads/2024/02/ITKAU-HP_2025.jpg
END:VEVENT
BEGIN:VEVENT
DTSTART;TZID=Europe/Berlin:20250126T150000
DTEND;TZID=Europe/Berlin:20250126T170000
DTSTAMP:20260423T123047
CREATED:20250102T155841Z
LAST-MODIFIED:20250124T192116Z
UID:10421-1737903600-1737910800@ballonfabrik.org
SUMMARY:Blues-Tanzworkshop mit Tanzpädagogin Lizzy Fuchs [Eintritt frei]
DESCRIPTION:Tanzen – etwas anders.\nBluestanz fasziniert durch seine starke Verbindung zur Musik und seiner intuitiven\, spontanen Wiederspiegelung im Tanz. \nSich zu erinnern\, wo der Blues seine Wurzeln hat\, hilft sich auf verschiedenen Ebenen weiter einzulassen: \nKulturell\, zwischenmenschlich und anatomisch. Lässig\, geerdet – mit groove und bounce. \nElisabeth Fuchs (http://tanzroutine.de) wird uns auf unserer Entdeckungsreise durch Musik\, Bewegung und unseren Körper anleiten. \nUnser Workshop richtet sich dabei an Alle\, die Blues als Tanz neu kennenlernen möchten; unabhängig davon ob schon Erfahrung mit  Blues oder anderen Tanzrichtungen gesammelt wurden. \n  \nWir freuen uns auf euch!
URL:https://ballonfabrik.org/veranstaltungen/blues-tanzworkshop-mit-tanzpaedagogin-lizzy-fuchs-eintritt-frei/
LOCATION:Ballonfabrik\, Austraße 27\, Augsburg\, Germany
CATEGORIES:Blues,Tanz,Workshop
ATTACH;FMTTYPE=image/png:https://ballonfabrik.org/wp-content/uploads/2023/03/BluesDanceWorkshop_-e1678913609527.png
END:VEVENT
BEGIN:VEVENT
DTSTART;TZID=Europe/Berlin:20250129T190000
DTEND;TZID=Europe/Berlin:20250129T230000
DTSTAMP:20260423T123047
CREATED:20250102T160113Z
LAST-MODIFIED:20250126T233800Z
UID:10424-1738177200-1738191600@ballonfabrik.org
SUMMARY:Blues-Tanzabend [Eintritt frei]
DESCRIPTION:Ob Frei oder Solo\, aber auch im Paar – es bleibt eine Entdeckungsreise. Musik und Tanz als Brücke zwischen verschiedenen Kulturen. Wenn ihr neugierig seid und tanzen möchtet\, seid ihr herzlich eingeladen!
URL:https://ballonfabrik.org/veranstaltungen/blues-tanzabend-eintritt-frei/
LOCATION:Ballonfabrik\, Austraße 27\, Augsburg\, Germany
CATEGORIES:Blues,Tanz
ATTACH;FMTTYPE=image/png:https://ballonfabrik.org/wp-content/uploads/2022/09/BluesBallonfabrik.svg_.png
END:VEVENT
END:VCALENDAR