BEGIN:VCALENDAR
VERSION:2.0
PRODID:-//Ballonfabrik fabrik unique - ECPv6.15.17.1//NONSGML v1.0//EN
CALSCALE:GREGORIAN
METHOD:PUBLISH
X-WR-CALNAME:Ballonfabrik fabrik unique
X-ORIGINAL-URL:https://ballonfabrik.org
X-WR-CALDESC:Veranstaltungen für Ballonfabrik fabrik unique
REFRESH-INTERVAL;VALUE=DURATION:PT1H
X-Robots-Tag:noindex
X-PUBLISHED-TTL:PT1H
BEGIN:VTIMEZONE
TZID:Europe/Berlin
BEGIN:DAYLIGHT
TZOFFSETFROM:+0100
TZOFFSETTO:+0200
TZNAME:CEST
DTSTART:20230326T010000
END:DAYLIGHT
BEGIN:STANDARD
TZOFFSETFROM:+0200
TZOFFSETTO:+0100
TZNAME:CET
DTSTART:20231029T010000
END:STANDARD
BEGIN:DAYLIGHT
TZOFFSETFROM:+0100
TZOFFSETTO:+0200
TZNAME:CEST
DTSTART:20240331T010000
END:DAYLIGHT
BEGIN:STANDARD
TZOFFSETFROM:+0200
TZOFFSETTO:+0100
TZNAME:CET
DTSTART:20241027T010000
END:STANDARD
BEGIN:DAYLIGHT
TZOFFSETFROM:+0100
TZOFFSETTO:+0200
TZNAME:CEST
DTSTART:20250330T010000
END:DAYLIGHT
BEGIN:STANDARD
TZOFFSETFROM:+0200
TZOFFSETTO:+0100
TZNAME:CET
DTSTART:20251026T010000
END:STANDARD
END:VTIMEZONE
BEGIN:VEVENT
DTSTART;TZID=Europe/Berlin:20240907T230000
DTEND;TZID=Europe/Berlin:20240908T050000
DTSTAMP:20260425T134745
CREATED:20240115T064042Z
LAST-MODIFIED:20260313T162956Z
UID:6390-1725750000-1725771600@ballonfabrik.org
SUMMARY:Raggatekk Revolution (AK)
DESCRIPTION:Come\, join and listen fi di wild hybridization of two entirely different worlds\, two seemingly distinct entities\, when the chants of Rastafari music fuse with the stomping beats of Oldschool Gabba\, cooked up by some madmen sound engineers on their Commodore 64s.\n\nLine-up:\n❂ Roman Rudeboy [Sub:Culture]❂ Effy Michelle [Public Energy]❂ Ancient Bass [High Traffic]❂ Odradek [Air Raid]
URL:https://ballonfabrik.org/veranstaltungen/raggatek-revolution/
LOCATION:Ballonfabrik\, Austraße 27\, Augsburg\, Germany
CATEGORIES:Hitech,Jungle,Raggatek
END:VEVENT
BEGIN:VEVENT
DTSTART;TZID=Europe/Berlin:20240913T210000
DTEND;TZID=Europe/Berlin:20240914T050000
DTSTAMP:20260425T134745
CREATED:20231016T132907Z
LAST-MODIFIED:20240913T103252Z
UID:5434-1726261200-1726290000@ballonfabrik.org
SUMMARY:Young and Cold Festival Vol. 10 - Freitag [Abendkasse]
DESCRIPTION:Young and Cold Festival since 2013:  Das Zwei-Tages-Festival in der Ballonfabrik!\nFreitag Coldwave Night; Samstag Neue Deutsche Welle meets Neue Neue Deutsche Welle \nTicket kann bei Young and Cold erworben werden: \n VVK beendet\, es wird aber eine Abendkasse geben! \n\nFreitag Coldwave Night \n21h: THYMIAN/ Darkwave from Swizz\n23h: Give My Remains to Broadway / Darkwave from Canada  ~ LEIDER ABGESAGT ~\n24h: Adam Usi / Special / Darkpop/Synthpop from Germany
URL:https://ballonfabrik.org/veranstaltungen/young-and-cold-festival-10-fr/
LOCATION:Ballonfabrik\, Austraße 27\, Augsburg\, Germany
CATEGORIES:Neue Deutsche Welle,Wave
ATTACH;FMTTYPE=image/jpeg:https://ballonfabrik.org/wp-content/uploads/2023/10/437029350_823669869782389_5470759436774045437_n-e1723493401159.jpg
END:VEVENT
BEGIN:VEVENT
DTSTART;TZID=Europe/Berlin:20240914T180000
DTEND;TZID=Europe/Berlin:20240915T050000
DTSTAMP:20260425T134745
CREATED:20240726T093417Z
LAST-MODIFIED:20240910T055545Z
UID:8349-1726336800-1726376400@ballonfabrik.org
SUMMARY:Young and Cold Festival Vol. 10 - Samstag [Abendkasse]
DESCRIPTION:Young and Cold Festival since 2013:  Das Zwei-Tages-Festival in der Ballonfabrik!\nFreitag Coldwave Night; Samstag Neue Deutsche Welle meets Neue Neue Deutsche Welle \nVVK beendet\, es wird aber eine Abendkasse geben! \nSamstag Neue Deutsche Welle meets Neue Neue Deutsche Welle\n18.30h: Kissing Disease (NNDW / Germany)\n20.00h: Drückeberger (NNDW / Germany)\n21:30h: GAST (NNDW / Germany)\n23:00h: Stahlnetz (NDW / Germany)\nab 0h Aftershowparty German Wave Spezial!!! \n 
URL:https://ballonfabrik.org/veranstaltungen/young-and-cold-festival-vol-10-sa/
LOCATION:Ballonfabrik\, Austraße 27\, Augsburg\, Germany
CATEGORIES:Neue Deutsche Welle,Wave
ATTACH;FMTTYPE=image/jpeg:https://ballonfabrik.org/wp-content/uploads/2023/10/437029350_823669869782389_5470759436774045437_n-e1723493401159.jpg
END:VEVENT
BEGIN:VEVENT
DTSTART;TZID=Europe/Berlin:20240915T150000
DTEND;TZID=Europe/Berlin:20240915T170000
DTSTAMP:20260425T134745
CREATED:20240821T161530Z
LAST-MODIFIED:20240910T055653Z
UID:8497-1726412400-1726419600@ballonfabrik.org
SUMMARY:Blues-Tanzworkshop mit Tanzpädagogin Lizzy Fuchs [Eintritt frei]
DESCRIPTION:Tanzen – etwas anders.\nBluestanz fasziniert durch seine starke Verbindung zur Musik und seiner intuitiven\, spontanen Wiederspiegelung im Tanz. \nSich zu erinnern\, wo der Blues seine Wurzeln hat\, hilft sich auf verschiedenen Ebenen weiter einzulassen: \nKulturell\, zwischenmenschlich und anatomisch. Lässig\, geerdet – mit groove und bounce. \nElisabeth Fuchs (http://tanzroutine.de) wird uns auf unserer Entdeckungsreise durch Musik\, Bewegung und unseren Körper anleiten. \nUnser Workshop richtet sich dabei an Alle\, die Blues als Tanz neu kennenlernen möchten; \nunabhängig davon ob schon Erfahrung mit  Blues oder anderen Tanzrichtungen gesammelt wurden. \n  \nWir freuen uns auf euch!
URL:https://ballonfabrik.org/veranstaltungen/blues-tanzworkshop-mit-tanzpaedagogin-lizzy-fuchs/
LOCATION:Ballonfabrik\, Austraße 27\, Augsburg\, Germany
CATEGORIES:Blues,Tanz,Workshop
ATTACH;FMTTYPE=image/png:https://ballonfabrik.org/wp-content/uploads/2023/03/BluesDanceWorkshop_-e1678913609527.png
END:VEVENT
BEGIN:VEVENT
DTSTART;TZID=Europe/Berlin:20240921T163000
DTEND;TZID=Europe/Berlin:20240922T020000
DTSTAMP:20260425T134745
CREATED:20230927T093101Z
LAST-MODIFIED:20240919T221900Z
UID:5307-1726936200-1726970400@ballonfabrik.org
SUMMARY:Augsburg Deathfest IX [AK]
DESCRIPTION:DOORS: 16:30 I Beginn: 17:00\nAK 15 EUR: Nur noch wenige Karten! \n\n\nDas Augsburg Deathfest ist zurück. Zum 9. Mal im 10. Jahr gibt es in der Ballonfabrik auf die Nüsschen!\n\n\nNo Nazi – No Bullshit. Rechtes Gesocks bleibt bitteschön daheim.\n\n\nEDIT: Profanity und Human Prey können krankheitsbedingt nicht auftreten. Wir haben folgende Esatzband gewinnen können:\n\nHereza – Death Metal straight into your Face! | Stuttgart & Vibrio Cholera – Deathgrind | Augsburg \n\n\nLine-up\n\n\n– Chordotomy – Slam Sledgehammer | Augsburg\n\n\nSubjugated Into Obedience von Chordotomy \n– Pusboil – Slam Brutality | Basel (CH) \nAncient Stories of Suffering and Disease von Pusboil \n\n\n– Lunatic Dictator – Death/Thrash Metal | Darmstadt\n\n\n\n\n\n\n\n\n\n\n– Borussia Satan – Black/Death Metal | Augsburg\n\n\n\n– Hereza – Death Metal straight into your Face!\nStuttgart\n\n\n– Vibrio Cholera – Deathgrind | Augsburg
URL:https://ballonfabrik.org/veranstaltungen/deathfest-3/
LOCATION:Ballonfabrik\, Austraße 27\, Augsburg\, Germany
CATEGORIES:Black-Metal,Death-Metal
ATTACH;FMTTYPE=image/jpeg:https://ballonfabrik.org/wp-content/uploads/2023/09/IMG_8557.jpeg
END:VEVENT
BEGIN:VEVENT
DTSTART;TZID=Europe/Berlin:20240925T190000
DTEND;TZID=Europe/Berlin:20240925T230000
DTSTAMP:20260425T134745
CREATED:20240923T144132Z
LAST-MODIFIED:20240923T221747Z
UID:8945-1727290800-1727305200@ballonfabrik.org
SUMMARY:Blues-Tanzabend
DESCRIPTION:Ob Frei oder Solo\, aber auch im Paar – es bleibt eine Entdeckungsreise. Musik und Tanz als Brücke zwischen verschiedenen Kulturen. Wenn ihr neugierig seid\, tanzen möchtet oder einfach für eine Zeit im Hier und Jetzt abtauchen wollt\, so seid ihr herzlich eingeladen!
URL:https://ballonfabrik.org/veranstaltungen/blues-4/
LOCATION:Ballonfabrik\, Austraße 27\, Augsburg\, Germany
CATEGORIES:Blues,Tanz
ATTACH;FMTTYPE=image/jpeg:https://ballonfabrik.org/wp-content/uploads/2024/09/IMG_8919.jpeg
END:VEVENT
BEGIN:VEVENT
DTSTART;TZID=Europe/Berlin:20240927T190000
DTEND;TZID=Europe/Berlin:20240928T020000
DTSTAMP:20260425T134745
CREATED:20240524T070035Z
LAST-MODIFIED:20240923T162546Z
UID:7656-1727463600-1727488800@ballonfabrik.org
SUMMARY:LIVE: Chthonic Chaos Carnival [VVK+AK]
DESCRIPTION:Chthonic Chaos Carnival (Metal)\n[ Eintritt: 12 EUR VVK\, 15 EUR AK ]  \nBei Fragen bzgl. des VVK-Tickets wendet euch bitte direkt an die Bands und nicht an die Ballonfabrik! Da dies eine Fremdveranstaltung ist\, liegt das Management VVK/AK nicht bei uns.  \nMail: info@raahoorkhuit.de . Nutzt primär diese Mail\, ansonsten versucht es bei den anderen Bands! \n  \nDoors: 19:00 Melodic Death-\,  Death-\, &  Black Metal – Metalcore – Dark Avantgarde\nLINE-UP:\n–   Die in Agony (DE)\n–   NYOS – New Years of Suffering (HU\, IRL\, US\, DE)\n–   Death in Fiction (DE)\n–   Andabata (DE)\n–   Raa Hoor Khuit (DE)\n  \nDeath in Fiction \nDeath in Fiction ist eine 2020 gegründete Melodic Death Metal Band aus Augsburg. In Auflehnung gegen die Entwicklung auf der Erde erschaffen sie eine fiktive Welt um dem Zuhörer Zukunft zu verschaffen. Thematiken wie gesellschaftliche Probleme\, Krankheiten\, Hass und auch der Kampf mit sich selbst werden zu einer düsteren Geschichte verpackt  und unter Begleitung von fetten Riffs\, hämmernden Blastbeats aber auch melodischen Parts in die Welt getragen. \n﻿﻿﻿ \nMehr auf Instagram: https://www.instagram.com/death_in_fiction \n  \nNYOS – NEWYEARSOFSUFFERING \n„Mixed up in all my madness\, the voices gets so loud!“ (Oblivion). Ganz nach diesem Motto hat sich im Jahr 2022 die Band New Years of Suffering (NYOS) zusammengefunden\, um mit ihren Tracks die Crowd mitzureißen. Mit der Herkunft aus Budapest\, Galway\, Montana und Garmisch-Partenkirchen ergibt sich ein bunter\, internationaler Mix\, welcher sich auch in der Musik wiederspiegelt. Breakdowns\, Blastbeats\, Blegh. Das ergibt irgendwas Wütendes\, was in Richtung Metalcore und Melodic Deathmetal geht. Cleane Hooks\, die Ohrwurmcharakter besitzen\, werden auch bei Fans von „Fit for a King“\, „Miss May I“ oder auch „Polaris“ für Begeisterung sorgen. Mit ihrer 2023 produzierten EP „THE END“ startet die fünfköpfige Kombo voll durch und freut sich auf unvergessliche Momente. Für zwei weitere Singles befindet sich NYOS aktuell im Tonstudio. Seid bereit\, was noch alles so kommt! \n﻿ \nMehr auf Instagram: https://www.instagram.com/nyos.band/ \n  \nANDABATA \nDas Death-Metal-Duo ANDABATA gibt es bereits seit 1997. Wir haben inzwischen 4 CDs veröffentlicht und erst im April diesen Jahres eine brandneue EP herausgebracht. Gerade durch die ungewöhnliche Besetzung von Andabata erhalten die            extrem schnellen Riffs ihren ganz eigenen Sound. Auf Gitarren wird nämlich gänzlich verzichtet! Stattdessen gibt es nur Bass\, Schlagzeug und Gesang. \nBloody Screams von Andabata \nMehr auf: andabata.de \n  \nRaa Hoor Khuit \nRaa Hoor Khuit ist mehr als eine Band\, sondern ein Kollektiv\, das Grenzen zwischen Black Metal\, Dark Avantgarde und rituellen Klanglandschaften sprengt. Seit 1994 prägt die Offenheit und Experimentierfreude der Musiker den ständig variierenden Sound. Mit zwei erfolgreichen CD-Produktionen und internationalen Samplerbeiträgen hat sich die Band einen Namen gemacht. Ihr harter\, schwerer Sound bleibt konstant\, nahe am Black Metal\, aber offen für alles\, was nicht dem Mainstream entspricht. RHK steht für Offenheit\, Miteinander\, Freiheit und Individualität – eine Beschwörung auf der Bühne\, die das Publikum in einen tranceähnlichen Zustand versetzt und auch im dritten Jahrzehnt ihrer Existenz höchstes Bestreben bleibt. \nRise of a New Aeon von RaaHoorKhuit \n\nMehr auf Instagram: https://www.instagram.com/Raa_Hoor_Khuit/  &  https://linktr.ee/raahoorkhuit \n  \nDie in Agony \nDie Band besteht aus fünf recht unterschiedlichen Persönlichkeiten\, die durch ihre gemeinsame Leidenschaft für Metal zusammengekommen sind. Ihre Musik vereint die Wut und Intensität des Death Metal mit melancholischen Melodien\, angereichert durch Einflüsse aus verschiedenen Genres. Die Texte reflektieren den inneren Konflikt des Alltags\, die Auseinandersetzung mit der Umwelt und Wege der Bewältigung. Im März 2024 veröffentlichten sie ihre zweite Single  “Back 2 Isolation”. Aktuell arbeiten sie an ihrem Debüt-Album\, dessen zweite Single seit dem 30. März verfügbar ist. Ihre einzigartige Klanglandschaft ist das Ergebnis ihrer diversen musikalischen Hintergründe. \nBack 2 Isolation von Die In AgonyMehr auf Instagram: https://www.instagram.com/dieinagony.official/
URL:https://ballonfabrik.org/veranstaltungen/chthonic-chaos-carnival/
LOCATION:Ballonfabrik\, Austraße 27\, Augsburg\, Germany
CATEGORIES:Black-Metal,Death-Metal,Melodic-Death-Metal
ATTACH;FMTTYPE=image/jpeg:https://ballonfabrik.org/wp-content/uploads/2024/05/social_flyer-copy-e1723493609673.jpg
END:VEVENT
BEGIN:VEVENT
DTSTART;TZID=Europe/Berlin:20240928T100000
DTEND;TZID=Europe/Berlin:20240928T233000
DTSTAMP:20260425T134745
CREATED:20240321T141254Z
LAST-MODIFIED:20240923T163332Z
UID:7001-1727517600-1727566200@ballonfabrik.org
SUMMARY:Ballon Con 3 @ Countdown Spielewelt
DESCRIPTION:Ballon Con 3 @Countdown Spielewelt\nWICHTIG: Das Turnier findet in der Countdown Spielewelt in LANDSBERG AM LECH statt! \nWir spielen wieder cEDH im Countdown Spielewelt in Landsberg am Lech. Event Details findet ihr auf unserem Topdeck Event. \nWe are visiting Countdown Spielewelt for another cEDH Event. You find every detail regarding the event on our Topdeck.gg event.
URL:https://ballonfabrik.org/veranstaltungen/ballon-con-3-countdown-spielewelt/
LOCATION:Countdown Landsberg a. Lech\, Max-Planck-Straße 2\, Landsberg am Lech\, 86899\, Germany
CATEGORIES:Spiele-/Konsolenabend
ATTACH;FMTTYPE=image/jpeg:https://ballonfabrik.org/wp-content/uploads/2024/03/signal-2024-05-14-16-33-36-710.jpg
END:VEVENT
BEGIN:VEVENT
DTSTART;TZID=Europe/Berlin:20240928T190000
DTEND;TZID=Europe/Berlin:20240929T030000
DTSTAMP:20260425T134745
CREATED:20240118T055134Z
LAST-MODIFIED:20240923T174821Z
UID:6444-1727550000-1727578800@ballonfabrik.org
SUMMARY:If the Kids are United: Bene’s und Fabi’s Balle-Jubiläum [AK]
DESCRIPTION:Es ist wieder soweit. \nWir schauen mit euch zusammen\, frei nach Sham 69\, ob die „Kids“ auch vereint sind! \nGeboten wird auch diesmal eine bunte musikalische Mischung aus Punk und Hip Hop. \nAußerdem feiern zwei Ballonäuschen ihr 10 Jähriges Ballonfabrik-Jubiläum. Wir freuen uns auf euch!! \n  \nKrach machen diesmal: \n  \nDer Laute Gast (Hip Hop) \nhttps://www.facebook.com/derlautegast \n \nOceansites (Punk) \nhttps://www.facebook.com/oceansides \n \n  \nBiene Banal (Punk)
URL:https://ballonfabrik.org/veranstaltungen/if-the-kids-are-united2/
LOCATION:Ballonfabrik\, Austraße 27\, Augsburg\, Germany
CATEGORIES:HipHop
ATTACH;FMTTYPE=image/jpeg:https://ballonfabrik.org/wp-content/uploads/2024/01/signal-2024-08-26-08-51-51-328.jpg
END:VEVENT
END:VCALENDAR