BEGIN:VCALENDAR
VERSION:2.0
PRODID:-//Ballonfabrik fabrik unique - ECPv6.15.17.1//NONSGML v1.0//EN
CALSCALE:GREGORIAN
METHOD:PUBLISH
X-WR-CALNAME:Ballonfabrik fabrik unique
X-ORIGINAL-URL:https://ballonfabrik.org
X-WR-CALDESC:Veranstaltungen für Ballonfabrik fabrik unique
REFRESH-INTERVAL;VALUE=DURATION:PT1H
X-Robots-Tag:noindex
X-PUBLISHED-TTL:PT1H
BEGIN:VTIMEZONE
TZID:Europe/Berlin
BEGIN:DAYLIGHT
TZOFFSETFROM:+0100
TZOFFSETTO:+0200
TZNAME:CEST
DTSTART:20220327T010000
END:DAYLIGHT
BEGIN:STANDARD
TZOFFSETFROM:+0200
TZOFFSETTO:+0100
TZNAME:CET
DTSTART:20221030T010000
END:STANDARD
BEGIN:DAYLIGHT
TZOFFSETFROM:+0100
TZOFFSETTO:+0200
TZNAME:CEST
DTSTART:20230326T010000
END:DAYLIGHT
BEGIN:STANDARD
TZOFFSETFROM:+0200
TZOFFSETTO:+0100
TZNAME:CET
DTSTART:20231029T010000
END:STANDARD
BEGIN:DAYLIGHT
TZOFFSETFROM:+0100
TZOFFSETTO:+0200
TZNAME:CEST
DTSTART:20240331T010000
END:DAYLIGHT
BEGIN:STANDARD
TZOFFSETFROM:+0200
TZOFFSETTO:+0100
TZNAME:CET
DTSTART:20241027T010000
END:STANDARD
END:VTIMEZONE
BEGIN:VEVENT
DTSTART;TZID=Europe/Berlin:20231101T180000
DTEND;TZID=Europe/Berlin:20231101T230000
DTSTAMP:20260424T173824
CREATED:20231016T132636Z
LAST-MODIFIED:20231022T062350Z
UID:5429-1698861600-1698879600@ballonfabrik.org
SUMMARY:Magic-The Gathering
DESCRIPTION:
URL:https://ballonfabrik.org/veranstaltungen/magic/
LOCATION:Ballonfabrik\, Austraße 27\, Augsburg\, Germany
CATEGORIES:Spiele-/Konsolenabend
ATTACH;FMTTYPE=image/jpeg:https://ballonfabrik.org/wp-content/uploads/2022/05/280488151_5013988615344079_2389189197965679321_n.jpg
END:VEVENT
BEGIN:VEVENT
DTSTART;TZID=Europe/Berlin:20231103T200000
DTEND;TZID=Europe/Berlin:20231104T010000
DTSTAMP:20260424T173824
CREATED:20230317T064347Z
LAST-MODIFIED:20231029T161716Z
UID:4149-1699041600-1699059600@ballonfabrik.org
SUMMARY:SVIN (Dänemark) // Brennenstuhl (Augsburg)
DESCRIPTION:Foto: Kristoffer Juel \nSVIN ist eine Avantgarde-Rockband aus Kopenhagen\, Dänemark. Die Band hat sich seit ihrem Debüt im Jahr 2011 mit dem Album „Heimat“ einen Namen in der internationalen Musikszene gemacht. Nach der Konsolidierung des aktuellen Line-Ups veröffentlichte SVIN 2018 ihr fünftes Album „Virgin Cuts“. Das Album bietet Musik\, die den Hörer in ein klangliches Schlupfloch zwischen lärmigem Rock\, dröhnenden Landschaften\, New-Age-Minimalismus und staubigem Afro-Trip zieht und dabei auf starke Inspirationen aus der Natur\, Folklore\, zeremonieller Musik und Avantgarde zurückgreift.\nIntroducing SVIN by SVIN\nPräzise Rhythmik und dennoch große musikalische Freiheit charakterisieren die vier Augsburger Musiker von brennenstuhl.\nSo finden sich unerwartete\, aber stets wiedererkennbare Strukturen wieder. Bass und Schlagzeug als treibende Krautrock-Maschine\, gepaart mit psychedelischem Gitarrenspiel aus Jazz und Blues bilden den fliegenden Teppich für Saxophonistin und Sängerin Eva\, deren Stimme an eine Mischung aus Erykah Badu und Tess Parks erinnert.\nDie Band bezeichnet ihren Sound selbst als Acid-Krautrock-Jazz\, der laut und schräg\, aber auch nachdenklich\, leise und geradlinig\, jedoch immer berührend und tanzbar ist.
URL:https://ballonfabrik.org/veranstaltungen/svin-karman/
LOCATION:Ballonfabrik\, Austraße 27\, Augsburg\, Germany
CATEGORIES:Krautrock,Rock
ATTACH;FMTTYPE=image/jpeg:https://ballonfabrik.org/wp-content/uploads/2023/03/20180709_COPENHAGEN-JAZZ-FESTIVAL-2018_-┬®-Kristoffer-Juel_1411-scaled.jpg
END:VEVENT
BEGIN:VEVENT
DTSTART;TZID=Europe/Berlin:20231104T203000
DTEND;TZID=Europe/Berlin:20231105T010000
DTSTAMP:20260424T173824
CREATED:20230111T095501Z
LAST-MODIFIED:20240601T104021Z
UID:3768-1699129800-1699146000@ballonfabrik.org
SUMMARY:CALL OF THE VOID V
DESCRIPTION:Abendkasse: 12€ \nLine Up:\nRübe (Augsburg)\nEine Band aus Augsburg. Begeistert von Alternative\, Krautrock und Neo-Psychodelic immer auf der Suche nach den kreativen Freiräumen in einfachen Grooves. Die Stellen\, an denen es entweder ganz ruhig wird – oder eben scheppert. \n  \nMicrowave Jesus von Rübe \nMonomanic (München)\nAhab und der weiße Wal\, Nathanael und der Wahnsinn – Eine Idee\, unablässig ein Ziel vor Augen. \nMit unerbittlichen Drums\, knurrendem Bass\, entrücktem Gesang\, staubtrockenen Gitarren und schwebenden Synthesizern mit doomigen Orgelklängen schaffen Monomanic aus München mit ihrem Heavy Rock eine Melange\, die Bands wie King Crimson\, Black Sabbathund Kadavar die Ehre erweist und entschlossen in die Zukunft blickt. \nDas ist Monomanic – Wir sind Monomanic. \n  \nLágrimas von Monomanic \nTriptonus (Wien)\nTriptonus klingen wie ein verzerrter Urknall der als groovegeladenes Musikgeflecht durch Raum und Zeit treibt. Ein wildes Kuddelmuddel an Soundeinflüssen bringen ausgedehnte Jams und komplexe Tondichtung aus unseren Köpfen in eure Ohren. Triptonus spielen modernen Psychedelic/Experimental Rock der eine Brücke schlägt zwischen Hendrix’schen Gitarrensoli\, fetten Stonerriffs ala´ Kyuss\, afrikanischen Grooves und elektronischen Sounds. \nMusik von Triptonus zeichnet sich durch ihre Instrumentalität\, Improvisation sowie progressive Struktur aus. Einflüsse kommen aus den Genres Psychedelic\, StonerRock und Experimentalmusik. \n  \nSoundless Voice von Triptonus \nGefördert durch\n\n</div/>
URL:https://ballonfabrik.org/veranstaltungen/call-of-the-void-v/
LOCATION:Ballonfabrik\, Austraße 27\, Augsburg\, Germany
CATEGORIES:Krautrock,Psychedelic Rock,Stoner
ATTACH;FMTTYPE=image/jpeg:https://ballonfabrik.org/wp-content/uploads/2023/01/cov5.jpg
END:VEVENT
BEGIN:VEVENT
DTSTART;TZID=Europe/Berlin:20231110T200000
DTEND;TZID=Europe/Berlin:20231111T020000
DTSTAMP:20260424T173824
CREATED:20230507T171756Z
LAST-MODIFIED:20231109T235606Z
UID:4411-1699646400-1699668000@ballonfabrik.org
SUMMARY:20 Jahre Die Zäune
DESCRIPTION:Die Zäune aus Augsburg feiern ihr zwanzigjähriges Bestehen. Seit zwei Jahrzehnten machen Die Zäune Trompeten Punkrock. Ein Grund zum feiern. \nNeben Die Zäune erwarten die Geburtstagsgäste noch weitere Gratulanten auf der Bühne: \nCheap Jake (Punk/Aux) \nNext Bus by Cheap Jake WIF (Punk/Allgäu) \nFONK (Punk/Aux)
URL:https://ballonfabrik.org/veranstaltungen/20-die-zaeune/
LOCATION:Ballonfabrik\, Austraße 27\, Augsburg\, Germany
CATEGORIES:Punk-Rock
ATTACH;FMTTYPE=image/jpeg:https://ballonfabrik.org/wp-content/uploads/2023/05/57306000_2399646883402311_2899701754910212096_n.jpg
END:VEVENT
BEGIN:VEVENT
DTSTART;TZID=Europe/Berlin:20231111T200000
DTEND;TZID=Europe/Berlin:20231112T050000
DTSTAMP:20260424T173824
CREATED:20221124T122251Z
LAST-MODIFIED:20230329T120120Z
UID:3215-1699732800-1699765200@ballonfabrik.org
SUMMARY:Deca Dance - Live: Plague Pits
DESCRIPTION:11.11.23: Plague Pits (EBM/Synth) \nUnderground Wave Party in Augsburg.\n– DJ NeonForce\n– DJ Tiefenstadt\n– TBA\n—\ngoth – wave – minimal – synth – underground 80s – post punk\n⚰️ Waver und Grufti Treff
URL:https://ballonfabrik.org/veranstaltungen/decandance-3/
LOCATION:Ballonfabrik\, Austraße 27\, Augsburg\, Germany
CATEGORIES:Goth,Post-Punk,Underground,Wave
ATTACH;FMTTYPE=image/png:https://ballonfabrik.org/wp-content/uploads/2021/10/decadance.png
END:VEVENT
BEGIN:VEVENT
DTSTART;TZID=Europe/Berlin:20231117T200000
DTEND;TZID=Europe/Berlin:20231119T010000
DTSTAMP:20260424T173824
CREATED:20230217T071428Z
LAST-MODIFIED:20231113T070423Z
UID:3999-1700251200-1700355600@ballonfabrik.org
SUMMARY:Indian Summer Festival Vol. 5
DESCRIPTION:Dieses Jahr findet zum fünften mal das Indian Summer Festival in der Ballonfabrik statt. Wie jedes Jahr gibt es endlich wieder zwei Tage lang Stoner\, Grunge und Alternative Rock vom Allerfeinsten. Aus der Idee heraus\, Musikern  – vor allem aus den Musikrichtungen Grunge/Stoner/Alternative Rock – Auftrittsmöglichkeiten zu bieten\, entstand das Indian Summer Indoor Festival. Dabei war von Anfang an wichtig\, dass mindestens die Hälfte der Bands aus dem Raum Augsburg kommen. Wie auch die Jahre zuvor gibt es ein bunt-gemischtes\, interessantes und vielfältiges Line-Up! \nLINE UP\nFreitag \n\nFatty Scooter (Augsburg)\nGorelem (Berlin)\nmore tba.\n\nSamstag\n\nRainy Monday (Augsburg)\nThe Icarus Orchestra (Ravensburg)\nTV Moms (New York)\nmore tba.\n\nGorelem\nGorelem III by Gorelem \nSeit 2013 rollt die Heavy Noise/ Stoner Rock Lokomotive bereits durch die Republik. Dabei teilte sich das Trio die Bühnen mit Bands wie Mondo Generator\, Indian Nightmare\, Necronomicon\, Bullet und Night Demon\, um nur einige zu nennen. Schwere Riffs\, donnernde Bässe und treibende Drums bringen dabei jeden Kopf zum Nicken. \nThe Icarus Orchestra\nDon’t Forget the Knots by The Icarus Orchestra \nDas Trio aus Gitarre/Vocals\, Bass und Drums\, welches live mit ihren Klangbildern und purer Soundgewalt zum Orchester anwächst. Irgendwo zwischen Alternative\, Grunge und Dessert Rock kreieren sie ihren eigenen cineastischen\, effektbefeuerten Soundtrack. \nTV Moms (New York)\nTV Moms by TV Moms \nTV Moms is a loud\, grungy\, guitar-drums\, gutter rocknroll band. Ok\, not all the songs are loud. There’s some singing in there\, but not vocal gymnastics. Bummer rock is a thing? But a little more sarcastic. Riff-based guitar stuff that is really fun to play\, even if you don’t play guitar that much. And there are drums. Our drummer broke a stick a couple times. \n  \nRainy Monday\nRainy Monday ist eine aufstrebende Alternative-Rock-Band\, die 2022 in Augsburg gegründet wurde. Die Bandmitglieder Ahmed Yüksel\, Leo Sandmair\, Margarita Ernst und Nicolai Bolkenius fanden sich schnell zusammen und entdeckten ihre gemeinsame Leidenschaft für kraftvolle und gefühlsvolle Rock-Musik. Kennzeichnend für die Musik von Rainy Monday sind eingängige Melodien\, kraftvolle Gitarrenriffs und energiegeladene Rhythmen.
URL:https://ballonfabrik.org/veranstaltungen/indian-summer-festival/
LOCATION:Ballonfabrik\, Austraße 27\, Augsburg\, Germany
CATEGORIES:Alternative,Stoner
ATTACH;FMTTYPE=image/jpeg:https://ballonfabrik.org/wp-content/uploads/2023/02/375977119_845905777195058_4790402759923704881_n-e1695164182148.jpg
END:VEVENT
BEGIN:VEVENT
DTSTART;TZID=Europe/Berlin:20231124T200000
DTEND;TZID=Europe/Berlin:20231125T030000
DTSTAMP:20260424T173824
CREATED:20230201T140503Z
LAST-MODIFIED:20231120T153546Z
UID:3928-1700856000-1700881200@ballonfabrik.org
SUMMARY:Los Fastidios (Ska Punk from Verona) + Die Römer (FDB) + Draist (Muc)
DESCRIPTION:Bitte beachtet\, dass es nur Abendkasse geben wird\, Tickets im Vorverkauf bieten wir leider nicht an! Seid bitte zeitig vor Ort\, dann kommt ihr sicherlich rein!\nLos Fastidios sind eine der bekanntesten Szene Bands aus Italien. 1991 in Verona von Sänger Enrico gegründet\, spielen sie einen kräftigen Mix aus Ska und Streetpunk\, schwungvollen Einflüssen aus Reggae\, Rock N Roll und Hardcore Rhythmen.\nIn den Texten von Los Fastidios geht es häufig um soziale Fragen\, einem Entgegentreten von Rassismus und anderen Diskriminierungen\, Emanzipation von Mensch und Tier sowie Freiheit und den Kampf gegen den Kapitalismus und weitere unterdrückende Systeme.\nIn ihren mehr als 30 Jahren auf der Bühne haben Los Fastidios eine Menge Bands inspiriert und zu einer lebendigen Szene\, insbesondere im Norden Italiens beigetragen. Vielfach nimmt die Band mit ihren Texten auch Bezug auf die Tradition der Partisanenbewegung in Italien.\nSeit 2019 ist Elisa Dixan\, die Tourmanagerin der Band\, immer wieder mit auf der Bühne um Songs zum Besten zu geben. Nach der coronabedingten Pause starteten Los Fastidios zunächst mit ihrer 30-Jahres-Tour durch und machten auch bei uns in Augsburg halt. Nach einer längeren Pause und einer Lateinamerika-Tour\, ist die Band auch bei uns wieder mit einer neuen Show am Start. \nSupport kommt von: \nDie Römer\, aus dem nahegelegenen Friedberg. Seit etwa 24 Jahren machen die Bolle\, Breze und Mätty abwechslungsreichen und ehrlichen Punkrock. \nDraist aus München. Da ihr Auftritt bei Skarface kurzfristig ausfiel kommen die Münchner Punks einfach zu Los Fastidios und bescheren euch was um die Ohren.
URL:https://ballonfabrik.org/veranstaltungen/los-fastidios-2/
LOCATION:Ballonfabrik\, Austraße 27\, Augsburg\, Germany
CATEGORIES:Ska
ATTACH;FMTTYPE=image/jpeg:https://ballonfabrik.org/wp-content/uploads/2023/02/Los-Fastidios-promo-by-Sven-Noehren-2022-a-scaled.jpg
END:VEVENT
BEGIN:VEVENT
DTSTART;TZID=Europe/Berlin:20231125T183000
DTEND;TZID=Europe/Berlin:20231126T010000
DTSTAMP:20260424T173824
CREATED:20230217T071601Z
LAST-MODIFIED:20260313T162349Z
UID:4002-1700937000-1700960400@ballonfabrik.org
SUMMARY:Metal Crossover
DESCRIPTION:DOORS: 18:30\n\nFeeding Zebras:\nWir beantworten Arnold Schwarzeneggers Frage “Who is Feeding Zebras?” mit: Wir sind eine vierköpfige Metal Band\, die hartes Gitarren-Riffing mit eingängigen Melodien verbindet und das Ganze mit Blast Beats und einer Mischung aus Clean Gesang\, Screams und Growls würzt.\n\nRunning With Scissors:\nBreakdowns. Progressive. Heart.Das ist der Grundsatz\, den die Jungs von Running with Scissors seit ihrer Gründung 2018 leben.Inspiriert vom Leben und den Dingen die sich in unserer schnelllebigen Gesellschaft täglich ändern\,bringt diese fünfköpfige Kombo ihre Geschichten und Emotionen in melodischem Modern Metalcorezur Geltung.Jeder\, der sich nach Ohrwurmmelodien gepaart mit technischer Rhythmik\, langsamen Breakdownsund atmosphärischen Cleanpassagen sehnt\, soll sich bei Running with scissors zuhause fühlen!\n\nCall Me Messiah:Call Me Messiah steht für fetzige Riffs\, Breakdowns und Mosh Pits. Die fünf Jungs aus Ingolstadt mixen Deathcore und Groove Metal\, dazu eine Prise Slam. Brutale Musik mit Headbang-Garantie!\n\nMetavoid:MetaVoid spielen wütend punktierte Achtelnoten. Irgendwie klingen sie wie Meshuggah\, aber eigentlich nicht Ein Song geht so: „DöööDodon DööödodoDöööDodon DööödodoDööön“ und so weiter. Ein anderer geht so: „DododoDööö DododoDööö DododoDööö DododoDööö DododoDäää“. Man sollte MetaVoid live sehen weil sie haben Geld und sind sehr schlau. Gebt ihnen Eurer ganzes Geld!
URL:https://ballonfabrik.org/veranstaltungen/the-day-the-dead-walked/
LOCATION:Ballonfabrik\, Austraße 27\, Augsburg\, Germany
CATEGORIES:Death-Metal
END:VEVENT
BEGIN:VEVENT
DTSTART;TZID=Europe/Berlin:20231126T150000
DTEND;TZID=Europe/Berlin:20231126T170000
DTSTAMP:20260424T173824
CREATED:20231022T053107Z
LAST-MODIFIED:20231120T154051Z
UID:5485-1701010800-1701018000@ballonfabrik.org
SUMMARY:Blues-Tanzworkshop
DESCRIPTION:Tanzen – etwas anders.\nBluestanz fasziniert durch seine starke Verbindung zur Musik und seiner intuitiven\, spontanen Wiederspiegelung im Tanz. \nSich zu erinnern\, wo der Blues seine Wurzeln hat\, hilft sich auf verschiedenen Ebenen weiter einzulassen: \nKulturell\, zwischenmenschlich und anatomisch. Lässig\, geerdet – mit groove und bounce. \nElisabeth Fuchs (http://tanzroutine.de) wird uns auf unserer Entdeckungsreise durch Musik\, Bewegung und unseren Körper anleiten. \nUnser Workshop richtet sich dabei an Alle\, die Blues als Tanz neu kennenlernen möchten; \nunabhängig davon ob schon Erfahrung mit  Blues oder anderen Tanzrichtungen gesammelt wurden. \n  \nWir freuen uns auf euch!
URL:https://ballonfabrik.org/veranstaltungen/blues-tanzworkshop-2/
LOCATION:Ballonfabrik\, Austraße 27\, Augsburg\, Germany
CATEGORIES:Blues,Tanz
ATTACH;FMTTYPE=image/png:https://ballonfabrik.org/wp-content/uploads/2023/03/BluesDanceWorkshop_-e1678913609527.png
END:VEVENT
BEGIN:VEVENT
DTSTART;TZID=Europe/Berlin:20231129T190000
DTEND;TZID=Europe/Berlin:20231129T230000
DTSTAMP:20260424T173824
CREATED:20231016T132554Z
LAST-MODIFIED:20231022T060627Z
UID:5426-1701284400-1701298800@ballonfabrik.org
SUMMARY:Blues-Tanzabend
DESCRIPTION:Ob Frei oder Solo\, aber auch im Paar – es bleibt eine Entdeckungsreise. Musik und Tanz als Brücke zwischen verschiedenen Kulturen.\nWenn ihr neugierig seid\, tanzen möchtet oder einfach für eine Zeit im Hier und Jetzt abtauchen wollt\, so seid ihr herzlich eingeladen!
URL:https://ballonfabrik.org/veranstaltungen/blues-tanzabend-7/
LOCATION:Ballonfabrik\, Austraße 27\, Augsburg\, Germany
CATEGORIES:Blues,Tanz
ATTACH;FMTTYPE=image/jpeg:https://ballonfabrik.org/wp-content/uploads/2022/11/IMG-20221110-WA0001-e1672318249360.jpg
END:VEVENT
BEGIN:VEVENT
DTSTART;TZID=Europe/Berlin:20231130T210000
DTEND;TZID=Europe/Berlin:20231130T233000
DTSTAMP:20260424T173824
CREATED:20230828T122717Z
LAST-MODIFIED:20231127T185155Z
UID:5021-1701378000-1701387000@ballonfabrik.org
SUMMARY:Frank´s White Canvas (Chile) + fab (München)
DESCRIPTION:Line-up\nFrank’s White Canvas (Chile) \nfab (München) \n  \nTickets:\nVVK \n\nFrank’s White Canvas ist ein Frauenduo aus Chile\, das mit der Absicht geboren wurde\, Musik zu machen\, die eine rohe und direkte Botschaft an die Öffentlichkeit bringt. \nDas Ziel der Band ist es\, den Menschen Hoffnung zu geben und sie in ihren persönlichen Kämpfen zu begleiten. Die Vergangenheit hinterlässt Narben\, aber eine „weiße Leinwand“ wird immer verfügbar sein\, ein Raum\, in dem man seine Geschichte neu schreiben und einen neuen Weg einschlagen kann. \nIn ihrer kurzen Karriere sind sie bereits auf Bühnen wie dem Mad Cool Festival in Spanien\, Vive Latino in Mexiko-Stadt\, Rock al Parque in Kolumbien und Lollapalooza in Chile aufgetreten. Im Jahr 2022 eröffnen sie die Show für Guns n Roses in Chile. Darüber hinaus hat das Duo seine Musik auf Tourneen in den USA\, Europa\, Kolumbien und in ganz Chile vorgestellt. \nAm 13. November 2020 brachten sie ihr neues Album „My Life\, My Canvas“ auf den Markt\, das in London von Dimitri Tikovoï (Placebo\, Blondie\, Charli XCX) im Narcissus Studio produziert wurde. Frank’s White Canvas haben ein intimes Longplay-Album voller Kraft und Persönlichkeit veröffentlicht\, das verschiedene Wettbewerbe gewonnen hat\, wie z.B. „Bester Rockkünstler“ bei den Pulsar Awards 2021\, „Bestes Rockalbum“ bei Radio Futuro\, „Rockalbum des Jahres“ bei Irock und es wurde für „Bestes Rockalbum“ bei den Musa Awards nominiert. \nIm Sommer 2023 werden sie sich zum ersten Mal auf einigen Festivals in Deutschland präsentieren bevor es 2024 dann auf eine größere Deutschlandtour geht.
URL:https://ballonfabrik.org/veranstaltungen/karman-franks-white-canvas/
LOCATION:Ballonfabrik\, Austraße 27\, Augsburg\, Germany
CATEGORIES:Alternative,Rock
ATTACH;FMTTYPE=image/jpeg:https://ballonfabrik.org/wp-content/uploads/2023/08/123-e1694647825580.jpg
END:VEVENT
END:VCALENDAR