BEGIN:VCALENDAR
VERSION:2.0
PRODID:-//Ballonfabrik fabrik unique - ECPv6.15.17.1//NONSGML v1.0//EN
CALSCALE:GREGORIAN
METHOD:PUBLISH
X-ORIGINAL-URL:https://ballonfabrik.org
X-WR-CALDESC:Veranstaltungen für Ballonfabrik fabrik unique
REFRESH-INTERVAL;VALUE=DURATION:PT1H
X-Robots-Tag:noindex
X-PUBLISHED-TTL:PT1H
BEGIN:VTIMEZONE
TZID:Europe/Berlin
BEGIN:DAYLIGHT
TZOFFSETFROM:+0100
TZOFFSETTO:+0200
TZNAME:CEST
DTSTART:20220327T010000
END:DAYLIGHT
BEGIN:STANDARD
TZOFFSETFROM:+0200
TZOFFSETTO:+0100
TZNAME:CET
DTSTART:20221030T010000
END:STANDARD
BEGIN:DAYLIGHT
TZOFFSETFROM:+0100
TZOFFSETTO:+0200
TZNAME:CEST
DTSTART:20230326T010000
END:DAYLIGHT
BEGIN:STANDARD
TZOFFSETFROM:+0200
TZOFFSETTO:+0100
TZNAME:CET
DTSTART:20231029T010000
END:STANDARD
BEGIN:DAYLIGHT
TZOFFSETFROM:+0100
TZOFFSETTO:+0200
TZNAME:CEST
DTSTART:20240331T010000
END:DAYLIGHT
BEGIN:STANDARD
TZOFFSETFROM:+0200
TZOFFSETTO:+0100
TZNAME:CET
DTSTART:20241027T010000
END:STANDARD
END:VTIMEZONE
BEGIN:VEVENT
DTSTART;TZID=Europe/Berlin:20230901T230000
DTEND;TZID=Europe/Berlin:20230902T050000
DTSTAMP:20260424T143453
CREATED:20230525T060025Z
LAST-MODIFIED:20260313T162002Z
UID:4531-1693609200-1693630800@ballonfabrik.org
SUMMARY:Grenzfahnder Records SPOTLIGHT: TECHNO
DESCRIPTION:In der neuen Veranstaltungsreihe SPOTLIGHT nimmt das Augsburger Plattenlabel Grenzfahnder Records verschiedene Stilrichtung technoider Musik unter die Lupe. Durch dieses Konzept wird des Facettenreichtums dieses wunderschönen Genres gehuldigt – gerade auch\, um der aktuellen Verrohung unserer Musik entgegen zu wirken. In dieser ersten Ausgabe geht es um das Fundament und den Namensgeber Techno. Es gibt so viel Schönes zu entdecken. Lass dir von uns die bunten Bruchstücke davon beleuchten! \n  \nTimetable:\n23:00 –  00:30 C.o.e.M. \n00:30 – 02:00 GrindelWalt \n02:00 – 03:00 Fyooh \n03:00 – 05:00 Homunculus \n  \n10€ Eintritt \nFunktion One Soundsystem \n  \nGrenzfahnder Records ist ein aufstrebendes Plattenlabel\, das sich auf die Förderung von Newcomern spezialisiert hat. Unsere Mission ist es\, junge Talente zu unterstützen und ihnen eine Plattform zu bieten. Neben dem Ziel\, die Artists erfolgreich an Venues zu vermitteln\, steht ihnen mit der eigenen Veranstaltungsreihe SPOTLIGHT dauerhaft eine Bühne zur Verfügung. \nAuf unserem Soundcloud Channel https://soundcloud.com/grenzfahnder_records können die Nachwuchskünstler ihre Selbstkompositionen und DJ Mixes veröffentlichen und einem breiten Publikum zugänglich machen. \nIdeeller Größenwahn und bodenständige Nachhaltigkeit: Grenzfahnder Records wird seine Arbeit – ausbauen\, vernetzen und intensivieren. Wir wollen die Musikindustrie nachhaltig verändern und Newcomern die Möglichkeit geben stattzufinden. \n  \n 
URL:https://ballonfabrik.org/veranstaltungen/spotlight-techno/
LOCATION:Ballonfabrik\, Austraße 27\, Augsburg\, Germany
CATEGORIES:Techno
END:VEVENT
BEGIN:VEVENT
DTSTART;TZID=Europe/Berlin:20230902T173000
DTEND;TZID=Europe/Berlin:20230903T000000
DTSTAMP:20260424T143453
CREATED:20230330T062921Z
LAST-MODIFIED:20240616T174315Z
UID:4216-1693675800-1693699200@ballonfabrik.org
SUMMARY:New Ground Performance
DESCRIPTION:Über das Ensemble „New Ground Performance“\nDie NEW GROUND PERFORMANCE ist eine instrumental\, Text & Bild gesteuerte Kunstaktion im öffentlichen Raum. Wirft man Industrial Sound\, Techno und Electro-Punk in einen Topf\, entsteht der Sound der NGP. Die Band folgt damit der kontinuierlichen Stilisierung zum menschlichen Kunstobjekt der Erkundung der Evolution und der menschlichen Bedingung und ihrer Notwendigkeit. \nNach der Teilnahme in der Performance „We rise by lifting others“ mit Marinella Senatore im Museum Villa Stuck in München\, bietet die NGP am 02. September in der Augsburger Ballonfabrik ab 18:00 zum Thema „Community“ ein Happening zu dem ihr alle herzlich eingeladen seid.  Das Live Konzert der Band findet im Anschluss ab 20:00 statt. \nUm Vielfalt und Vielseitigkeit in einer Gemeinschaft erfahren und teilen zu können\, braucht es eine innere Verortung. Nur so können Eigenschaften und Identitäten – auch nach Außen – sichtbar gemacht werden. Um diese in mögliche Verbindungen zu bringen\, ist die Kommunikation (Sprache) ein wesentlicher Bestandteil von Information. \nWas bedeutet Community und wer gehört dazu?\nIm „Happening“ nehmen die Künstler*innen diese Fragen auf und transformieren die Wort- Reaktionen der Beteiligten in der Cut UP Technik in eine instrumentalpoetische Form. Die von Sound & Wort getragenen Informationen werden damit zum Resonanzkörper und können so später in die Performance einfließen. \n  \nEinlass: 17:30 \nHappening: 18:00 \nKonzert: 20:00 \nAbendkasse: 8-12€ \n  \n \n \nGefördert durch
URL:https://ballonfabrik.org/veranstaltungen/new-ground-performance-2023/
LOCATION:Ballonfabrik\, Austraße 27\, Augsburg\, Germany
CATEGORIES:Experimental,Industrial
ATTACH;FMTTYPE=image/jpeg:https://ballonfabrik.org/wp-content/uploads/2023/03/npg_social_media_facebook.jpg
END:VEVENT
BEGIN:VEVENT
DTSTART;TZID=Europe/Berlin:20230908T220000
DTEND;TZID=Europe/Berlin:20230909T050000
DTSTAMP:20260424T143453
CREATED:20221201T003253Z
LAST-MODIFIED:20230805T085853Z
UID:3342-1694210400-1694235600@ballonfabrik.org
SUMMARY:DUBYLONFABRIK #5 | DubRise Soundsystem | Amando | Timwe |
DESCRIPTION:D  U  B   |   S  T  E P  P  E  R  S   |   D  U  B  W  I  S  E   |   R  O  O  T  S\nAuch zur fünften Ausgabe unseres Dub-Regulars verfolgen wir – die DUBYLONCrew –  das Konzept\, regionalen Soundsystems die Möglichkeit zu bieten\, mit ihren Stacks unser Dub-Ballonzimmer erbeben zu lassen. Da der Dub-Cluster Süddeutschland äußerst ergiebig ist\, sind auch diesmal die Wege nicht weit: Am Start ist das DubRise Soundsystem aus München. Mit dabei: Amando\, der mit eigenen Produktionen aufschlagen wird & Timwe am Mic. Kommt vorbei und erlebt mit uns eine weitere\, wunderbare Subbass-Session\, getreu dem Motto: #supportyourlocalsoundsystem!  \n  \nL   I   N   E  –  U  P \n\nD U B R I S E   S O U N D S Y S T E M\nSeit nunmehr über zehn Jahren ist das Dubrise Soundsystem aus München für seine abgrundtiefen Sub-Bässe und energiegeladene Sound-Sessions weit über die Grenzen der Landeshauptstadt hinaus bekannt\, denn Musik sollte nicht nur gehört\, sondern auch gespürt werden. Für ihre Veranstaltungsreihe „Skank Station“ laden sie KünstlerInnen und ProduzentInnen aus aller Welt ein. Gespielt wird von Vinyl bis Selbstproduziert\, von Roots zu Dub bis hin zu Steppers. Die mächtigen Boxen sind – außer im Club oder auf Festivals – auch auf der Straße zu sehen\, beispielweise jedes Jahr bei der KRACHPARADE auf den Straßen Münchens: Denn das Motto ebendieser Demo „MEHR LÄRM FÜR MÜNCHEN – Gegen die Stilllegung kultureller Freiräume durch Luxussanierungen“ entspricht ihrer klaren Haltung\, die musikalische und gesellschaftliche Vielfalt zu erhalten oder gar zu bereichern und sich gegen die fortschreitende Gentrifizierung aufzulehnen. Nur eine kulturell lebendige\, aufgeweckte Stadt kann auf Dauer lebenswerter Ort zum Leben sein! \n \n  \nT I M W E\nIn seinem Gesang geht es um Themen wie Nachhaltigkeit\, Fragen des gemeinsamen Zusammenlebens auf und mit der Erde sowie Betrachtungen des aktuellen Zeitgeschehens. Dabei versucht er stets die Brücke zur Rasta-livity und Roots & Culture zu bauen.  Seit einiger Zeit machen Timwe und Nizze-Low gemeinsame Sache. So sind unter anderem die Produktionen Soundsystem Anthem\, Spliff Activator und Bike Rider entstanden. In diesem Zusammenhang darf man sich auf Releases in Form von Vinyl freuen. Häufig begleitet Timwe das Jah Chalice Soundsystem auf ihren Sessions\, die letztes Jahr auch in Kroatien auf dem Escape the City Festival und der Bordeaux Dub School halt machten. \n \nA M A N D O\nSolidarity by Amando\nN I Z Z E  –  L O W (DUBYLONCrew)\nJah Ina Your Life by Nizze-low\n  \n  \n  \n 
URL:https://ballonfabrik.org/veranstaltungen/dubylonfabrik5/
LOCATION:Ballonfabrik\, Austraße 27\, Augsburg\, Germany
CATEGORIES:Dub,Reggae
ATTACH;FMTTYPE=image/jpeg:https://ballonfabrik.org/wp-content/uploads/2022/12/WhatsApp-Bild-2023-07-30-um-17.55.16.jpg
END:VEVENT
BEGIN:VEVENT
DTSTART;TZID=Europe/Berlin:20230915T193000
DTEND;TZID=Europe/Berlin:20230917T050000
DTSTAMP:20260424T143453
CREATED:20221019T115737Z
LAST-MODIFIED:20230109T102336Z
UID:3006-1694806200-1694926800@ballonfabrik.org
SUMMARY:Young and Cold Festival Vol. 9
DESCRIPTION:Das legändäre Young and Cold Festival feiert sein 10 Jähriges bestehen. 2013 fand das erste Young and Cold Festival statt.\nZum 10ten Geburtstag lassen wir es ordentlich krachen und präsentieren euch ein Lineup aus sieben Y&C Künstlern.\nEine kleine Auswahl unserer zahlreichen Bands unserer großen Familie! \nFreitag 15. September 2023\nEinlass 19:30h\n20.30h Blanche Biau / Swizz\n22.00h Blood Handsome / USA\n23.30h Plastikstrom / Germany\nDJs: Young and Cold DJ Crew\n————————————–\nSamstag 16. September 2023\nEinlass 19:30\n20.30h TBA / Swizz\n22.00h Super Besse / Belarus\n23.30h Nürnberg / Belarus\nDJs NeonForce and Special Guest DJ \n  \nTicket und Vorverkaufsstart 31.Januar 2023. \nTicketpreis 38\,00 € incl MwSt.
URL:https://ballonfabrik.org/veranstaltungen/young-and-cold-vol9/
LOCATION:Ballonfabrik\, Austraße 27\, Augsburg\, Germany
CATEGORIES:Post-Punk,Underground,Wave
ATTACH;FMTTYPE=image/jpeg:https://ballonfabrik.org/wp-content/uploads/2022/10/312257347_487815430034503_627137904062539701_n.jpg
END:VEVENT
BEGIN:VEVENT
DTSTART;TZID=Europe/Berlin:20230922T203000
DTEND;TZID=Europe/Berlin:20230923T010000
DTSTAMP:20260424T143453
CREATED:20221216T093908Z
LAST-MODIFIED:20240523T123025Z
UID:3544-1695414600-1695430800@ballonfabrik.org
SUMMARY:CALL OF THE VOID IV
DESCRIPTION:Abendkasse: 12-13€ \nLine Up\nRico (Godiasco)\nRiccardo Gamondi has been interested in both audio and mental distortion since 1993. \nHe finds fundamental inspiration in noise\, ranging from harsh noise to the sounds of agricultural machinery. Despite his mild nature\, he often gets involved in fights with people who ask him for Psy-Trance music. \n \nNadja (Berlin)\nNadja is a duo of Aidan Baker and Leah Buckareff—active since 2005—making music which has been described as ambient doom\, dreamsludge\, or metalgaze\, a signature sound which combines the \natmospheric textures of shoegaze and ambient/electronic music with the heaviness\, density\, and volume of metal\, noise\, and industrial. Nadja has released numerous albums on many different underground labels—Alien8 Recordings\, Daymare Records\, Southern Lord\, Hydrahead Records\, Gizeh Records\, and Important Records\, to name a few—including their own imprint\, Broken Spine Productions. The duo has toured extensively around the world—including performances at such festivals as SXSW\, FIMAV\, Roadburn\, Donaufest\, Le Guess Who\, Incubate\, and Unsound—and has shared stages with artists like Earth\, OM\, Tim Hecker\, Khanate\, Neurosis\, and Godflesh. Originally from Toronto\, Canada\, the duo now resides in Berlin\, Germany. \nLabyrinthine by Nadja \nTentakel (Augsburg)\nKrustendoom in HoseKoloss Rehearsal by Tentakel \nGefördert durch
URL:https://ballonfabrik.org/veranstaltungen/call-of-the-void-iv/
LOCATION:Ballonfabrik\, Austraße 27\, Augsburg\, Germany
CATEGORIES:Ambient,Doom,Drone,Noise
ATTACH;FMTTYPE=image/jpeg:https://ballonfabrik.org/wp-content/uploads/2022/12/COTV_IV_FB.jpg
END:VEVENT
BEGIN:VEVENT
DTSTART;TZID=Europe/Berlin:20230923T160000
DTEND;TZID=Europe/Berlin:20230924T010000
DTSTAMP:20260424T143453
CREATED:20230111T094954Z
LAST-MODIFIED:20230919T223334Z
UID:3762-1695484800-1695517200@ballonfabrik.org
SUMMARY:| AUSVERKAUFT! | Augsburg Deathfest
DESCRIPTION:Wir sind zurück! Packt die Tanzschuhe ein und gönnt euch das most international Lineup!\n\nEinlass 16 Uhr | Beginn 17 Uhr | AUSVERKAUFT!\n  \nCerebral Incubation\n(Las Vegas\, USA) Cavemanslam Legends \nEpicardiectomy\n(Prag\, CZ) Highspeed Brutality \nTraumatomy\n(RUS) Eastern Slam Sickness \nChordotomy\n(Augsburg\, DE) Augsburg Brutalität \n.357 Homicide\n(Manchester\, GBR) 2Man Brutality \nVibrio Cholera\n(Augsburg\, DE) Death/Grind Maschine \nNo Nazi – no Bullshit!
URL:https://ballonfabrik.org/veranstaltungen/augsburg-deathfest/
LOCATION:Ballonfabrik\, Austraße 27\, Augsburg\, Germany
CATEGORIES:Death-Metal
ATTACH;FMTTYPE=image/jpeg:https://ballonfabrik.org/wp-content/uploads/2023/01/deathfest.jpg
END:VEVENT
BEGIN:VEVENT
DTSTART;TZID=Europe/Berlin:20230929T210000
DTEND;TZID=Europe/Berlin:20230930T050000
DTSTAMP:20260424T143453
CREATED:20230715T095229Z
LAST-MODIFIED:20260313T162009Z
UID:4642-1696021200-1696050000@ballonfabrik.org
SUMMARY:Wimmi Wonders Bad Taste Celebration
DESCRIPTION:Bad Taste-Party 2023 im Worst-Case-Ambiente der BALLONFABRIK Augsburg\nAm 29. September 2023 findet sie ab 21 Uhr wieder statt – WIMMI WONDER’S Bad Taste-Party. Es erwarten euch DJ’s\, deren musikalische Bandbreite von Bad-Disco über Cringe-Italo bis hin zu Trash-80ies reicht. Als Live-Act rumpeln zwischendurch noch „Die Geggen Gaggas“ über die Bühne. Die Träger*innen der gelungensten modischen Missstände können bei unserem Contest ziemlich miese Preise gewinnen. \nEs werden neben den Klassikern auch richtig günstige Special-Drinks wie Sprizz\, White Russian und Berliner Meister angeboten. \nZu erleben sind an diesem jetzt schon legendären Abend: \nLamborgini Disko \nDie Geggen Gaggas \nDJ Uschi \nDJ B. Larry \nOdradreck \nSpritti Gonzales \nButzbach Sepp \nWimmi Wonder \nEintritt:\n8 € für die Coolen \n10 € für alle Larrys
URL:https://ballonfabrik.org/veranstaltungen/bad-taste-celebration/
LOCATION:Ballonfabrik\, Austraße 27\, Augsburg\, Germany
CATEGORIES:80ies,90ies,Wave
END:VEVENT
BEGIN:VEVENT
DTSTART;TZID=Europe/Berlin:20230930T190000
DTEND;TZID=Europe/Berlin:20231001T030000
DTSTAMP:20260424T143453
CREATED:20221213T125000Z
LAST-MODIFIED:20230924T164748Z
UID:3531-1696100400-1696129200@ballonfabrik.org
SUMMARY:Chefdenker + Geiz\, Jetski Accidents & Scarlet Fall
DESCRIPTION:Der Shooting-Star des Bierschinken-Universums und stattlich (!) geprüfter Brodersen-Verkoster Propeller Gerdi holt sich Chefdenker mit dem flammneuen Album „Asozialdarwinismus“ aus Köln/Berlin in die Ballonfabrik um mal richtig die Puppen tanzen zu lassen. Sei dabei!\nDie neue Platte „Asozialdarwinismus“ kann hier (vor-)bestellt werden: https://chefdenker.ffm.to/asozialdarwinismus \nLine-Up\nChefdenker (Köln)\nREIZ (Leipzig)\nJetski Accidents (Dortmund)\nScarlet Fall (Donauwörth) \n  \nEin heißes Video mit viel Kirmes-Content neuesten Datums:
URL:https://ballonfabrik.org/veranstaltungen/30-9-23-chefdenker/
LOCATION:Ballonfabrik\, Austraße 27\, Augsburg\, Germany
ATTACH;FMTTYPE=image/jpeg:https://ballonfabrik.org/wp-content/uploads/2022/12/324238138_531737832050859_3172291859917686953_n.jpg
END:VEVENT
END:VCALENDAR