BEGIN:VCALENDAR
VERSION:2.0
PRODID:-//Ballonfabrik fabrik unique - ECPv6.15.17.1//NONSGML v1.0//EN
CALSCALE:GREGORIAN
METHOD:PUBLISH
X-WR-CALNAME:Ballonfabrik fabrik unique
X-ORIGINAL-URL:https://ballonfabrik.org
X-WR-CALDESC:Veranstaltungen für Ballonfabrik fabrik unique
REFRESH-INTERVAL;VALUE=DURATION:PT1H
X-Robots-Tag:noindex
X-PUBLISHED-TTL:PT1H
BEGIN:VTIMEZONE
TZID:Europe/Berlin
BEGIN:DAYLIGHT
TZOFFSETFROM:+0100
TZOFFSETTO:+0200
TZNAME:CEST
DTSTART:20220327T010000
END:DAYLIGHT
BEGIN:STANDARD
TZOFFSETFROM:+0200
TZOFFSETTO:+0100
TZNAME:CET
DTSTART:20221030T010000
END:STANDARD
BEGIN:DAYLIGHT
TZOFFSETFROM:+0100
TZOFFSETTO:+0200
TZNAME:CEST
DTSTART:20230326T010000
END:DAYLIGHT
BEGIN:STANDARD
TZOFFSETFROM:+0200
TZOFFSETTO:+0100
TZNAME:CET
DTSTART:20231029T010000
END:STANDARD
BEGIN:DAYLIGHT
TZOFFSETFROM:+0100
TZOFFSETTO:+0200
TZNAME:CEST
DTSTART:20240331T010000
END:DAYLIGHT
BEGIN:STANDARD
TZOFFSETFROM:+0200
TZOFFSETTO:+0100
TZNAME:CET
DTSTART:20241027T010000
END:STANDARD
END:VTIMEZONE
BEGIN:VEVENT
DTSTART;TZID=Europe/Berlin:20230810T200000
DTEND;TZID=Europe/Berlin:20230811T000000
DTSTAMP:20260424T131351
CREATED:20230330T063300Z
LAST-MODIFIED:20230525T074833Z
UID:4224-1691697600-1691712000@ballonfabrik.org
SUMMARY:Espana Circo Este
DESCRIPTION:ESPANA CIRCO ESTE (Italien)\neine Klangkollision aus BALKAN BEATS\, HIP HOP\, RAP und TANGO-PUNK aus Italien/Argentinien. \nDie Italienisch/argentinische Band ESPANA CIRCO ESTE hat sich erst vor zwei Jahren gegründet\, bringen es in diesem kurzen Zeitraum aber schon auf über 300 Live Auftritte! Die 4 Köpfige Musik Karawane begeistert mit einem einzigartigen und originellen Sound. ESPANA CIRCO ESTE mischen Balkan Beats über \, HipHop\, Rap und Tango-Punk Einflüssen mal mit Geige\, mal mit Akkordeon\, in einer wunderbar frischen Art. In Italien teilten sie die Bühne bereits unter anderem mit MANU CHAO und GOGOL BORDELLO. Nun machen sie sich 2016 auf den Weg eine ausgiebige Tour und Festivals in Deutschland zu spielen\, um auch hier ihr Publikum bei Ihren aufregenden Live Shows zum schwitzen und Tanzen zu bringen. Im Gepäck haben sie ihre 2015 erschienen CD „La Revolucion del Amor“ Eine Band die man auf keinen Fall verpassen sollte!
URL:https://ballonfabrik.org/veranstaltungen/karman-espana-circo-este/
LOCATION:Ballonfabrik\, Austraße 27\, Augsburg\, Germany
CATEGORIES:Balkan-Beats,Rap
ATTACH;FMTTYPE=image/jpeg:https://ballonfabrik.org/wp-content/uploads/2023/03/espana_circoeste_Header.jpg
END:VEVENT
BEGIN:VEVENT
DTSTART;TZID=Europe/Berlin:20230826T200000
DTEND;TZID=Europe/Berlin:20230827T050000
DTSTAMP:20260424T131351
CREATED:20230628T100624Z
LAST-MODIFIED:20260313T161957Z
UID:4610-1693080000-1693112400@ballonfabrik.org
SUMMARY:RUDEBWOY TUNES
DESCRIPTION:Es wäre nicht wirklich eine Sommer\, ohne eine Rudebwoy Tunes Session!\n… haben wir uns gedacht und gönnen uns und euch noch eine Outdoor- und Indoor-Party diese Saison. Drinnen wie gewohnt\, Jungle und Drum’n’Bass und draußen diesmal Reggae und Dub. Das Line up bilden die üblichen Verdächtigen bzw. altehrwürdige Rudebwoy Tunes Veteranen: Irie-Lu und Seebarider vom International Ekwiti Soundsystem\, Pupa Dubwise von der Dubylonfabrik Crew\, ApolloHead und Ancient Bass\, sowie Team Air Raid. Wird folglich lustig und familiär\, Junglist Movement!\n\nIndoor (dub and reggae)\n20:00 – 22:00 Uhr:\n– Seebarider\n– Pupa Dubwise \n\nIndoor (jungle and drum’n’bass)\n22:00 – 05:00 Uhr:\n– Irie-Lu\n– Odradek\n– ApolloHead\n– Ancient Bass\n– Roman Rudeboy\n– Pneumothorax MC
URL:https://ballonfabrik.org/veranstaltungen/rudebwoy-tunes/
CATEGORIES:Drum & Bass,Dub,Jungle,Reggae
END:VEVENT
END:VCALENDAR