BEGIN:VCALENDAR
VERSION:2.0
PRODID:-//Ballonfabrik fabrik unique - ECPv6.15.17.1//NONSGML v1.0//EN
CALSCALE:GREGORIAN
METHOD:PUBLISH
X-ORIGINAL-URL:https://ballonfabrik.org
X-WR-CALDESC:Veranstaltungen für Ballonfabrik fabrik unique
REFRESH-INTERVAL;VALUE=DURATION:PT1H
X-Robots-Tag:noindex
X-PUBLISHED-TTL:PT1H
BEGIN:VTIMEZONE
TZID:Europe/Berlin
BEGIN:DAYLIGHT
TZOFFSETFROM:+0100
TZOFFSETTO:+0200
TZNAME:CEST
DTSTART:20210328T010000
END:DAYLIGHT
BEGIN:STANDARD
TZOFFSETFROM:+0200
TZOFFSETTO:+0100
TZNAME:CET
DTSTART:20211031T010000
END:STANDARD
BEGIN:DAYLIGHT
TZOFFSETFROM:+0100
TZOFFSETTO:+0200
TZNAME:CEST
DTSTART:20220327T010000
END:DAYLIGHT
BEGIN:STANDARD
TZOFFSETFROM:+0200
TZOFFSETTO:+0100
TZNAME:CET
DTSTART:20221030T010000
END:STANDARD
BEGIN:DAYLIGHT
TZOFFSETFROM:+0100
TZOFFSETTO:+0200
TZNAME:CEST
DTSTART:20230326T010000
END:DAYLIGHT
BEGIN:STANDARD
TZOFFSETFROM:+0200
TZOFFSETTO:+0100
TZNAME:CET
DTSTART:20231029T010000
END:STANDARD
END:VTIMEZONE
BEGIN:VEVENT
DTSTART;TZID=Europe/Berlin:20221104T210000
DTEND;TZID=Europe/Berlin:20221105T050000
DTSTAMP:20260422T103736
CREATED:20221006T053737Z
LAST-MODIFIED:20260313T160827Z
UID:2973-1667595600-1667624400@ballonfabrik.org
SUMMARY:INTENSIVSTATION
DESCRIPTION:  \nDJ Sets : mit den Newcomern der Ballonausen ! \nDJ Holiday\, \nAL.F\, \nDJ Gisela\, \nShmurl\, \nDer Mutant\, \nBassTi\, \nJa&Mo\, \nsyst23mglitch \nDeep/Acid/Detroit House\, Techno\, Disco\, Tekno …
URL:https://ballonfabrik.org/veranstaltungen/intensivstation/
LOCATION:Ballonfabrik\, Austraße 27\, Augsburg\, Germany
END:VEVENT
BEGIN:VEVENT
DTSTART;TZID=Europe/Berlin:20221105T200000
DTEND;TZID=Europe/Berlin:20221106T050000
DTSTAMP:20260422T103736
CREATED:20220420T051854Z
LAST-MODIFIED:20260313T160832Z
UID:2310-1667678400-1667710800@ballonfabrik.org
SUMMARY:The Cosmic Temptation
DESCRIPTION:  \nAm 5.11.22 heißt es wieder Cosmic in der Ballonfabrik Augsburg.\nDiesmal mit am Start „DJ BOGI“ aus INNSBRUCK.\nDJ MICKY (COSMIC MUSIC)\nDJ CHRIS DvM (KANTINE AUGSBURG)\nDJ BEN (COSMIC MUSIC)\nDJ HÄNK (COSMIC TEMPTATION)\nBeginn 21 Uhr.\nSpecial Getränkepreise\nSpecial Schwarzlicht DEKO.
URL:https://ballonfabrik.org/veranstaltungen/cosmic/
LOCATION:Ballonfabrik\, Austraße 27\, Augsburg\, Germany
CATEGORIES:Cosmic,Electronic,Reggae
END:VEVENT
BEGIN:VEVENT
DTSTART;TZID=Europe/Berlin:20221110T200000
DTEND;TZID=Europe/Berlin:20221110T233000
DTSTAMP:20260422T103736
CREATED:20220915T053735Z
LAST-MODIFIED:20221109T163719Z
UID:2899-1668110400-1668123000@ballonfabrik.org
SUMMARY:ABGESAGT: Not the Ones (Punk)
DESCRIPTION:UPDATE: Die Band musste aus gesundheitlichen Gründen die kommenden Auftritte absagen. Das Konzert fällt daher aus. Über einen möglichen Nachholtermin wird noch beraten. \nNOT THE ONES aus Ost-Berlin spielen simplen 77-Punk mit Ohrwurmmelodien.\nDem Titel der ersten LP entsprechend versuchen NOT THE ONES seit Jahren\, mit ihrer Musik schlechte Laune zu verbreiten\, doch Publikum & Kritiker sprechen stets von Gute-Laune-Musik.\nBei Wanda Records heißt es: „Charmant-britische Guitar Punk-Nummern in Richtung Alternative TV & Adverts\, versetzt mit Boys/Lurkers-Melodien.“  \nB-Side by Not The Ones \nSupport:\ntba.
URL:https://ballonfabrik.org/veranstaltungen/not-the-ones-support/
LOCATION:Ballonfabrik\, Austraße 27\, Augsburg\, Germany
ATTACH;FMTTYPE=image/jpeg:https://ballonfabrik.org/wp-content/uploads/2022/09/not_the_ones.jpg
END:VEVENT
BEGIN:VEVENT
DTSTART;TZID=Europe/Berlin:20221111T220000
DTEND;TZID=Europe/Berlin:20221112T050000
DTSTAMP:20260422T103736
CREATED:20220727T081222Z
LAST-MODIFIED:20260313T160840Z
UID:2703-1668204000-1668229200@ballonfabrik.org
SUMMARY:Air Raid DnB
DESCRIPTION:Wir machen mal gepflegt weiter und holen uns den nächsten unserer Lieblingsacts der vergangenen Jahre an den Start.\nDie Berlin City Boys von Survey haben nicht nur einschlägige Releases auf einigen der angesagtesten Underground Labels (wie Dispatch\, Flexout und Warm Communications) in ihrem Lebenslauf stehen\, sondern performen auch regelmäßig bei den Drum and Bass-Eventreihen Humanoid und GEST invites. Wir freuen uns auf den kosmopolitischen Sound der zwei Jungs und auf hoffentlichen dicken Support der Massive. One family\, one ❤ \nSurvey [Flexout | Dispatch Recordings | Warm Communications]\nOdradek [Air Raid]\nRoman Rudeboy [Sub:Culture]\nPneumothorax MC [Mind Blow]\nAncient Bass [Rudebwoy Tunes]
URL:https://ballonfabrik.org/veranstaltungen/air-raid-2/
LOCATION:Ballonfabrik\, Austraße 27\, Augsburg\, Germany
CATEGORIES:Drum & Bass
ORGANIZER;CN="AIR RAID Drum & Bass":MAILTO:graf.buchheim@uni-a.de
END:VEVENT
BEGIN:VEVENT
DTSTART;TZID=Europe/Berlin:20221112T230000
DTEND;TZID=Europe/Berlin:20221113T050000
DTSTAMP:20260422T103736
CREATED:20220725T054342Z
LAST-MODIFIED:20260313T161003Z
UID:2697-1668294000-1668315600@ballonfabrik.org
SUMMARY:ABGESAGT : Afro Passion
DESCRIPTION:UPDATE: Aus organisatorischen Gründen ist die Veranstaltung abgesagt.\n\nGenres:\nAFROBEATS\nDANCEHALL\nAFROTRAP\nHIPHOP\nAMAPIANO\nREGGAE\n\n\n\n\n\n\n\n\n\n\n\nDJs: DJ-Ozzi-O\, DJ Konto\, MC English
URL:https://ballonfabrik.org/veranstaltungen/afropassion/
LOCATION:Ballonfabrik\, Austraße 27\, Augsburg\, Germany
END:VEVENT
BEGIN:VEVENT
DTSTART;TZID=Europe/Berlin:20221118T200000
DTEND;TZID=Europe/Berlin:20221119T020000
DTSTAMP:20260422T103736
CREATED:20220525T053901Z
LAST-MODIFIED:20221016T171315Z
UID:2463-1668801600-1668823200@ballonfabrik.org
SUMMARY:The Necronautics (Surf) | The Mannish Boys (Blues\, Rock'n'roll)
DESCRIPTION:The Necronautics \nWild\, Furios\, Cineastisch! \nThe Necronautics entreißen den Zuhörer mit ihren energiegeladenen Live-Shows aus dem geisttötenden Alltagswürgegriff und entsenden ihn durch ihren Cinematic Twang in ein psychedelisches Panoptikum purer Phantasie. \nMit ihrem Debutalbum schlugen sie 2016 kapitale Wellen in der Surfszene und wurden mit zwei Surf Grammys für „Best Modern Instro Album“ und „Best Album Artwork“ ausgezeichnet. \nIhr eigenständiger Mix aus Surfmusic\, Jazz\, psychedelischer Rockmusik und cineastischen Morricone-Themen ist sowohl Hommage an die Tradition des Genres\, als auch dessen Evolution. \nMit „meisterhaften Kompositionen\, die immer wieder melodiöse Haken durch Jazz und Blues schlagen“ (Gitarre&Bass) und einer „beeindruckenden Tiefe und Räumlichkeit“ (guitar) „rocken The Necronautics mit gehöriger\, vom fieber geschüttelter Kraft und bester Laune.“ \n– Mannheimer Morgen \n﻿Scattered Peace by The Necronautics \n  \nThe Mannish Boys \nDie Mannish Boys wurden im Jahre 1992 von den Brüdern Ralf und Jörg Engelstätter gegründet. Die beiden Frontmänner glänzen nicht nur in ihrer Rolle als Musiker und Entertainer – nein – sie wissen auch neben ihren Eigenkompositionen und klassischen Rhythm & Blues und Rock’n’Roll Songs neu zu interpretieren und lassen in ihren zahlreichen Shows Humor und Erotik nicht zu kurz kommen. \nschweißtreiben – humorvoll – musikalisch – sehenswert!!!! \n 
URL:https://ballonfabrik.org/veranstaltungen/the-necronautics/
LOCATION:Ballonfabrik\, Austraße 27\, Augsburg\, Germany
CATEGORIES:Blues,Rock'n'roll,Surf
ATTACH;FMTTYPE=image/png:https://ballonfabrik.org/wp-content/uploads/2022/05/IMG_20220921_171612_426.png
END:VEVENT
BEGIN:VEVENT
DTSTART;TZID=Europe/Berlin:20221119T210000
DTEND;TZID=Europe/Berlin:20221120T020000
DTSTAMP:20260422T103736
CREATED:20220519T053434Z
LAST-MODIFIED:20221116T122517Z
UID:2446-1668891600-1668909600@ballonfabrik.org
SUMMARY:Decadance
DESCRIPTION:new wave – postpunk – goth – 80s
URL:https://ballonfabrik.org/veranstaltungen/decadance-2446/
LOCATION:Ballonfabrik\, Austraße 27\, Augsburg\, Germany
CATEGORIES:Post-Punk,Underground,Wave
END:VEVENT
BEGIN:VEVENT
DTSTART;TZID=Europe/Berlin:20221124T193000
DTEND;TZID=Europe/Berlin:20221125T010000
DTSTAMP:20260422T103736
CREATED:20220901T092725Z
LAST-MODIFIED:20230728T080510Z
UID:2825-1669318200-1669338000@ballonfabrik.org
SUMMARY:Maha Sohona(SWE) | Eye of Void | Blazing Spheres
DESCRIPTION:Doors: 19:30\nBands: 20:00\nEintritt: 10€ \nMaha Sohona\nChilled out fuzz rock from the north of Sweden \nEndless Searcher by Maha Sohona \nEye of Void\nStoner/doom band from Kraków\, Poland \nEye of Void – Eye of Void (LP) by Eye of Void \nSupport:\nBlazing Spheres\, 5 piece experimental stoner doom band from Augsburg \nPrototyp by Blazing Spheres
URL:https://ballonfabrik.org/veranstaltungen/maha-sohonaswe/
LOCATION:Ballonfabrik\, Austraße 27\, Augsburg\, Germany
CATEGORIES:Doom,Stoner
ATTACH;FMTTYPE=image/jpeg:https://ballonfabrik.org/wp-content/uploads/2022/09/maha_sohona.jpg
END:VEVENT
BEGIN:VEVENT
DTSTART;TZID=Europe/Berlin:20221125T200000
DTEND;TZID=Europe/Berlin:20221126T020000
DTSTAMP:20260422T103736
CREATED:20220705T113642Z
LAST-MODIFIED:20230728T082803Z
UID:2595-1669406400-1669428000@ballonfabrik.org
SUMMARY:Talcomania | Homeless Kings
DESCRIPTION:SKA PUNK „A TRIBUTE TO TALCO“\nDie Geschichte zu Talcomania ist schnell erzählt. Der Vollblutmusiker Jente\, setzt dem Lockdownblues entgegen\, was er mit Leidenschaft schon sein ganzes Leben macht: Musik. Die italienischen\, teils kryptischen Texte von „Talco“ sinnstiftend ins Deutsche zu übersetzen\, wird dabei zur größten Herausforderung\, die er dank versicherter Unterstützung von seiner Frau und seiner Schwester meistert.\nZusätzlich zum Gesang spielt Jente alle Instrumente (Gitarre\, Bass\, Horn\, Trompete) selbst ein\, legt ein künstliches Schlagzeug darüber und verschickt sein neues Werk an ein paar Freunde als Weihnachtsgeschenk. Das Feedback ist überwältigend. Wenig später bietet Dominik (ein befreundeter Drummer) an\, die Schlagzeugspuren an seinem Drumset einzuspielen\, was den Songs ihren letzten Schliff verleiht und noch mehr Leben einhaucht. \nSupport:\nWas kommt dabei heraus wenn man fetten Punk Rock\, satten Heavy Metal und Folk-Songwriter Hymnen miteinander vereint?\nDie Antwort geben die vier jungen Herren der Homeless Kings. Seit 2016 kombiniert die deutsch – österreichische Band die verschiedenen Musikstiele und kreiert dabei ihren eigenen individuellen Sound. Eine Single Auskopplung des darauf folgenden Albums und zahlreiche Liveshows stehen auf dem Plan.\nWer denkt das Alles sei unmöglich\, sollte sich selbst davon überzeugen und vor an die Bühne kommen\, wo sich die Homeless Kings mit dreckigen Gitarren\, fettem Bass\, einem treibenden Beat und einer markanten Whiskey stimme sich doch am wohlsten fühlen und eine mitreißende Atmosphäre schaffen. \n  \nAbendkasse: 8€
URL:https://ballonfabrik.org/veranstaltungen/talcomania/
LOCATION:Ballonfabrik\, Austraße 27\, Augsburg\, Germany
CATEGORIES:Ska
END:VEVENT
BEGIN:VEVENT
DTSTART;TZID=Europe/Berlin:20221127T110000
DTEND;TZID=Europe/Berlin:20221127T180000
DTSTAMP:20260422T103736
CREATED:20220813T093911Z
LAST-MODIFIED:20220813T093911Z
UID:2775-1669546800-1669572000@ballonfabrik.org
SUMMARY:We
DESCRIPTION:1 Plattenspieler mit Kopfhörer steht zum Anhören bereit\nVerköstigung: Getränke wie üblich günstig sowie Kaffee & Gebäck \nZur ANMELDUNG eines Stands bitte Mail an: vinyl@ballonfabrik.org \nP.S.: Die Börse findet 2x pro Jahr statt. Die nächsten Termine:\nSonntag\, 27.11.2022 | Pfingstmontag\, 29.05.2023
URL:https://ballonfabrik.org/veranstaltungen/schallplattenboerse-22-2/
CATEGORIES:Plattenbörse
ATTACH;FMTTYPE=image/jpeg:https://ballonfabrik.org/wp-content/uploads/2022/01/11707816_850640668345582_3793096338176069933_o.jpg
END:VEVENT
BEGIN:VEVENT
DTSTART;TZID=Europe/Berlin:20221130T190000
DTEND;TZID=Europe/Berlin:20221130T230000
DTSTAMP:20260422T103736
CREATED:20221108T084123Z
LAST-MODIFIED:20221111T172354Z
UID:3066-1669834800-1669849200@ballonfabrik.org
SUMMARY:Blues Tanzabend
DESCRIPTION:Zu Blues tanzen – von Frei und Solo\, aber auch im Paar – ist eine Entdeckungsreise ! \nDabei lässt sich die eigene Anatomie in Bewegung erkunden und musikalische Verbindung mit Anderen auf vielschichtige Art und Weise erleben ! \nMusik und Tanz als Brücke zwischen verschiedenen Kulturen. \nWenn ihr neugierig seid\, tanzen möchtet oder einfach für eine Zeit im Hier und Jetzt abtauchen wollt\, so seid ihr herzlich eingeladen ! \nMusik vom DJ & Mini-Workshop für Einsteiger !
URL:https://ballonfabrik.org/veranstaltungen/blues-tanzabend/
LOCATION:Ballonfabrik\, Austraße 27\, Augsburg\, Germany
CATEGORIES:Blues
ATTACH;FMTTYPE=image/jpeg:https://ballonfabrik.org/wp-content/uploads/2022/11/IMG-20221110-WA0001-e1672318249360.jpg
END:VEVENT
END:VCALENDAR