BEGIN:VCALENDAR
VERSION:2.0
PRODID:-//Ballonfabrik fabrik unique - ECPv6.15.17.1//NONSGML v1.0//EN
CALSCALE:GREGORIAN
METHOD:PUBLISH
X-WR-CALNAME:Ballonfabrik fabrik unique
X-ORIGINAL-URL:https://ballonfabrik.org
X-WR-CALDESC:Veranstaltungen für Ballonfabrik fabrik unique
REFRESH-INTERVAL;VALUE=DURATION:PT1H
X-Robots-Tag:noindex
X-PUBLISHED-TTL:PT1H
BEGIN:VTIMEZONE
TZID:Europe/Berlin
BEGIN:DAYLIGHT
TZOFFSETFROM:+0100
TZOFFSETTO:+0200
TZNAME:CEST
DTSTART:20210328T010000
END:DAYLIGHT
BEGIN:STANDARD
TZOFFSETFROM:+0200
TZOFFSETTO:+0100
TZNAME:CET
DTSTART:20211031T010000
END:STANDARD
BEGIN:DAYLIGHT
TZOFFSETFROM:+0100
TZOFFSETTO:+0200
TZNAME:CEST
DTSTART:20220327T010000
END:DAYLIGHT
BEGIN:STANDARD
TZOFFSETFROM:+0200
TZOFFSETTO:+0100
TZNAME:CET
DTSTART:20221030T010000
END:STANDARD
BEGIN:DAYLIGHT
TZOFFSETFROM:+0100
TZOFFSETTO:+0200
TZNAME:CEST
DTSTART:20230326T010000
END:DAYLIGHT
BEGIN:STANDARD
TZOFFSETFROM:+0200
TZOFFSETTO:+0100
TZNAME:CET
DTSTART:20231029T010000
END:STANDARD
END:VTIMEZONE
BEGIN:VEVENT
DTSTART;TZID=Europe/Berlin:20220930T200000
DTEND;TZID=Europe/Berlin:20221002T040000
DTSTAMP:20260424T112929
CREATED:20220622T062138Z
LAST-MODIFIED:20220927T123140Z
UID:2548-1664568000-1664683200@ballonfabrik.org
SUMMARY:AUSVERKAUFT: Young and Cold Festival
DESCRIPTION:Mehr als drei Jahre ist der Zauber der Augsburger Waver Familie her. Sensationelle Festivals und Bands die uns in den Jahren 2013 – 2019 die Ehre erwiesen. Einige von Ihnen sind heute ganz große Nummern auf der Welt und dank Ihnen erlebt die Szene einen frischen Wind.\nDer Flair der Ballonfabrik macht das einzig wahre Y&C Festival aus.\nAber was wäre das Y&C ohne euch wundervolle Gäste aus aller Welt?\nLasst uns gemeinsam die Reise weiter führen!\nWir laden euch herzlich ein zum Young and Cold Festival \nFreitag / 30.September – Einlass 20h\n21:00 – Videotraum / Darkwave (Germany)\n22:30 – JE T’AIME / Coldwave (France)\nAb ca. 0h – Bunkersyndikat DJs and Deca Dance DJs \nSamstag / 1. Oktober – Einlass 19h\n20:00 – Isla Ola​ / Experimental Wave (Germany)\n21:30 – Poison Point / Darkwave (France)\n23:00 – The Glass Beads / Darkwave (Ukraina)\nAb ca. 0h – Bunkersyndikat DJs and Deca Dance DJs \nVorverkauf: Preis 26\,50 € zzgl. Versand
URL:https://ballonfabrik.org/veranstaltungen/jung-and-cold-festival-dacadance/
LOCATION:Ballonfabrik\, Austraße 27\, Augsburg\, Germany
CATEGORIES:Goth,Post-Punk,Underground,Wave
ATTACH;FMTTYPE=image/jpeg:https://ballonfabrik.org/wp-content/uploads/2022/06/278121490_4908511542551740_5058471107852073628_n.jpg
END:VEVENT
BEGIN:VEVENT
DTSTART;TZID=Europe/Berlin:20221002T200000
DTEND;TZID=Europe/Berlin:20221002T233000
DTSTAMP:20260424T112929
CREATED:20220428T052249Z
LAST-MODIFIED:20220902T103651Z
UID:2322-1664740800-1664753400@ballonfabrik.org
SUMMARY:Lygo + Gory Bananas + Colonello
DESCRIPTION:LYGO\, das Indie-Punk Trio aus Bonn beehren uns im Oktober. Der Sound der Drei wandert zwischen Ruhe und Aufregung hin und her und bekommt durch den zweistimmigen Gesang eine ganz eigene Charakteristik. Freunde von Muff Potter\, Adam Angst\, FJØRT kommen hier voll auf ihre Kosten. \nLygophobie by Lygo \nSupport kommt von Gory Bananas\, die euch mit ihrem schnellen Punkrock richtig auf Touren bringen werden.\nDa bekanntlich aller guten Dinge drei sind haben sich die wunderbaren COLONELLO entschlossen uns mit ihrem verspielten Indie-Sound zu beglücken. DREI BANDS mit unglaublichem Sound das kann man sich NICHT entgehen lassen! \n \nColonnello · come on\n  \nAK: 9 €
URL:https://ballonfabrik.org/veranstaltungen/lygo/
LOCATION:Ballonfabrik\, Austraße 27\, Augsburg\, Germany
ATTACH;FMTTYPE=image/png:https://ballonfabrik.org/wp-content/uploads/2022/04/lygo.png
END:VEVENT
BEGIN:VEVENT
DTSTART;TZID=Europe/Berlin:20221007T210000
DTEND;TZID=Europe/Berlin:20221007T233000
DTSTAMP:20260424T112929
CREATED:20220630T084121Z
LAST-MODIFIED:20220811T152209Z
UID:2580-1665176400-1665185400@ballonfabrik.org
SUMMARY:Revelling Crooks | Mexico Sistema
DESCRIPTION:Revelling Crooks – seit 27 Jahren ein legendäres Mashup aus Balkan Klezmer Punk\, Irish Folk Polka\, Italian Partisan Songs\, Ska\, Rock’n‘Roll und Mariachi Cumbia. Vogelwilder Offbeat trifft auf rauen Straßenchanson und Protestlied. \nREVELLING CROOKS – das ist pure durchgeknallte Energie auf der Bühne und im Publikum! REVELLING CROOKS – das ist schnelle Tanzmusik! REVELLING CROOKS – das ist Speedfolk! Multi Kulti Volkstanz Punk! \n„Wenn Du auf einem REVELLING CROOKS Konzert bist\, vergisst Du die Welt und tanzt Dich glücklich!“ hat einmal ein begeisterter Konzertbesucher geschrieben. Und tatsächlich schießen die Crooks auf der Bühne ein wildes Feuerwerk an Lebensfreude ab und machen mit Ihrer ungestümen exotischen Mixtur aus Punk und den unterschiedlichsten Folk Wurzeln aus Ost- und Westeuropa aus jedem Club und jedem Festival einen tanzenden Hexenkessel\, der seines Gleichen sucht. \n  \nMexico Sistema – „Mamacita\, bleibst du\, oder gehst du?“ fragen die 5 Musiker von Mexico Sistema angesichts der vielen Menschen\, die aufbrechen in eine neue\, aber ungewisse Zukunft. Im Gepäck nur die kleine Erkenntnis\, das sie das Leben nicht verstehen\, aber es lieben zu leben. Es tauchen weitere Fragen und Gegebenheiten auf\, welche meist in spanischer Sprache gesungen werden\, eingebettet in tanzbarer Musik zwischen lateinamerikanischen Rythmen und Ska-Rock-Reggae. Panteón Rococó und Radio Bemba haben für diesen Stil den Weg gebahnt und Mexico Sistema bauen diesen jetzt zu einer Autobahn aus\, natürlich ohne Tempolimit:-)Der musikalische Werdegang der einzelnen Bandmitglieder war in den letzten 20 Jahren gespickt von namhaften Live- und Studio-Produktionen. So teilten sie die Bühne mit Manu Chao\, Jamiroquai\, Sara Lugo\, Chuck Fender\, Lutan Fyah\, Nosliw\, Ras Muhamad\, Skaos um nur einige zu nennen. Auf Platte sind sie zu hören bei Luciano\, Buju Banton\, Sizzla\, Kabaka Pyramid\, J Boog (dessen Album 2017 für den Reggae-Grammy nominiert war) uvm. Die Band\, die Ihre Homebase in Bobingen/Deutschland hat\, wurde 2021 von Toni Torres Gonzales\, Martin Rohac\, Tavi\, Mark Poppe und Gregor Czerny gegründet und am 1. Juli 2022 erschien ihre erste EP „Siempre Corriendo“.Als Special Guest wird bei Live-Shows auch Dabless Kewolo (aka ZaZa) aus Senegal die musikalische Bandbreite noch etwas erweitern. Nach dem Festival Sommer 2022 freut sich die Band auf einen berauschenden Abend mit den Revelling Crooks am 7. Okt 2022 in Augsburg. Dort wird auch die Frage gestellt: „Mamacita te quedas? Mamacita te vas?“ \n  \nAK: 15 € \nVVK: 16:20
URL:https://ballonfabrik.org/veranstaltungen/revelling-crooks-support-karman/
LOCATION:Ballonfabrik\, Austraße 27\, Augsburg\, Germany
CATEGORIES:Ska
ATTACH;FMTTYPE=image/jpeg:https://ballonfabrik.org/wp-content/uploads/2022/06/revelling_crooks_Header1.jpg
END:VEVENT
BEGIN:VEVENT
DTSTART;TZID=Europe/Berlin:20221008T170000
DTEND;TZID=Europe/Berlin:20221009T030000
DTSTAMP:20260424T112929
CREATED:20220911T150011Z
LAST-MODIFIED:20220911T150121Z
UID:2890-1665248400-1665284400@ballonfabrik.org
SUMMARY:Ausverkauft | Augsbangers Metal Meeting VI
DESCRIPTION:Für Oktober bisher bestätigt:\nFRACTURE (Augsburg\, Germany)\nWITCHHUNTER (Ulm/Neu-Ulm\, Germany)\nOver the Under (Polen)\nVENDETTA (Schweinfurt\, Germany)\nPORTRAIT (Kristianstad\, Sweden)
URL:https://ballonfabrik.org/veranstaltungen/augsbangers-metal-meeting-vi/
LOCATION:Ballonfabrik\, Austraße 27\, Augsburg\, Germany
CATEGORIES:Metal
END:VEVENT
BEGIN:VEVENT
DTSTART;TZID=Europe/Berlin:20221008T203000
DTEND;TZID=Europe/Berlin:20221009T030000
DTSTAMP:20260424T112929
CREATED:20220225T061341Z
LAST-MODIFIED:20221008T180048Z
UID:2130-1665261000-1665284400@ballonfabrik.org
SUMMARY:"Ballonfabrik goes Provino Club": The Sensitives | Innocent Prostitutes
DESCRIPTION:UPDATE: Das Konzert findet nicht in der Ballonfabrik statt\, sondern im Augsburger Provino Club! Ein großer Dank geht an die Provino-Betreiber\, dem Augsburger Raumpflegekultur e.V.  Busserl! \nUPDATE 2: The Bloodstrings haben krankheitsbedingt abgesagt. Für Ersatz sorgen die wunderbaren Innocent Prostitutes aus Augsburg. \nThe Sensitives is a rough-haired mixed race dog of punk\, rock’n’roll\, SKA and folk. It’s been touring around Europe and done about 300 shows\, spreading its musical wild oat which gave it a solid fanbase of people who\, to their knock out punk\, raises their middle finger to racism and sexism.\nThe three released albums exploded with love for the fans and the DIY punk family and delivered sucker punches to well picked political leaders and ignorant fools.\nThe mix of the two singers\, one male and one female\, keeps the energy on a constant high with the quick jumps between different styles of music\, something that’s been praised by both fans and media. This spring the trio will release five singles and during the fall a new album will land.\nFeet will be moving\, hips will be shaking and throats will be singing! \n﻿Live In Falun by The Sensitives \nSupport:\nThe Bloodstrings – A mixture of melodic punkrock\, freaky trash horror lyrics and a little bit of Psychobilly and Rockabilly slightly describes the style of The Bloodstrings. Founded in 2009\, the band members simply enjoy the music they love! \n﻿A Part (EP) by The Bloodstrings \n 
URL:https://ballonfabrik.org/veranstaltungen/sensetives/
LOCATION:Provino Club\, Provinostraße 35\, 86153 Augsburg
ATTACH;FMTTYPE=image/png:https://ballonfabrik.org/wp-content/uploads/2022/02/sensitives.png
END:VEVENT
BEGIN:VEVENT
DTSTART;TZID=Europe/Berlin:20221014T200000
DTEND;TZID=Europe/Berlin:20221014T233000
DTSTAMP:20260424T112929
CREATED:20220621T062207Z
LAST-MODIFIED:20221013T170325Z
UID:2534-1665777600-1665790200@ballonfabrik.org
SUMMARY:ABGESAGT: Die kleine Metzgerei: Goath | Cryptic
DESCRIPTION:Update: \nDas Konzert ist abgesagt! \nEs geht wieder los!! Wir huldigen der uralten Kunst des Death Metal!!! Die unheiligen GOATH haben sich aus ihrem Schlaf erhoben und kommen um uns ihren infernalischen Lärm um die Lauschlappen zu blasen! Aber noch nicht genug! Cryptic\, die Münchner Grind-Heroen\, haben sich entschlossen euch den härtesten Grind ums Gesicht zu schleudern!
URL:https://ballonfabrik.org/veranstaltungen/die-kleine-metzgerei-2/
LOCATION:Ballonfabrik\, Austraße 27\, Augsburg\, Germany
CATEGORIES:Black-Metal,Death-Metal
ATTACH;FMTTYPE=image/jpeg:https://ballonfabrik.org/wp-content/uploads/2022/06/goath.jpg
END:VEVENT
BEGIN:VEVENT
DTSTART;TZID=Europe/Berlin:20221015T190000
DTEND;TZID=Europe/Berlin:20221016T023000
DTSTAMP:20260424T112929
CREATED:20220725T054254Z
LAST-MODIFIED:20220902T111820Z
UID:2695-1665860400-1665887400@ballonfabrik.org
SUMMARY:Kreuzweise Nostalgieabend
DESCRIPTION:DJ Rusky\nDJ Skaloa\nDJ Alkmichl-Gustl-Käs\nDJ Windy Tunes \nAK: 5 €
URL:https://ballonfabrik.org/veranstaltungen/kreuzweise-abend/
LOCATION:Ballonfabrik\, Austraße 27\, Augsburg\, Germany
CATEGORIES:Kneipe
END:VEVENT
BEGIN:VEVENT
DTSTART;TZID=Europe/Berlin:20221020T190000
DTEND;TZID=Europe/Berlin:20221020T210000
DTSTAMP:20260424T112929
CREATED:20220428T052404Z
LAST-MODIFIED:20260313T153830Z
UID:2324-1666292400-1666299600@ballonfabrik.org
SUMMARY:Lesung: Weissinger/Kubik: Wespen in der Geisterbahn + Roland van Oystern
DESCRIPTION:Endlich mal wieder eine Lesung in der Ballonfabrik!\nKubik/Weissinger: „Wespen in der Geisterbahn“ – Lesetour 2022\nJulia Kubik sammelt Beobachtungen aus ihrem Alltag am Ostschweizer Provinzstadtrand und hält sie fest als Kurztexte\, Fotos oder Comics. Es sind sowohl mitgeschriebene Dialoge aus dem öffentlichen Raum und Fragmente aus diversen Chatverläufen\, als auch Traumsequenzen und Erfundenes. Oft geht es um Tiere und Infrastruktur. Zusammen mit Matthias Fässler hostet sie die Live-Talkshow „Kubik&Fässler-das Stadtgespräch“. 2021 erhielt sie den Förderpreis der St.Gallischen Kulturstiftung.\nBenjamin Weissinger hat vor einigen Jahren seine diversen\, angeblichen Jobs hingeschmissen und angefangen\, auf Facebook rund um die Uhr skurrile Miniaturen\, Gedichte und neue literarische Genres zu schaffen; die dazugehörigen Texte lassen sich mittlerweile auch in sechs Taschen- und E-Books nachlesen (es werden eher mehr als weniger). Der Autor mit Nähe zum Frankfurter Satire-Milieu („Titanic“) tritt bereits seit Jahren regelmäßig vor Publikum auf\, darunter eine Reihe von Lesungen mit der Bestseller-Autorin Paula Irmscher („Superbusen“).\nEinen kurzen Auftakt gibt der Augsburger Antiheld Roland von Oystern.
URL:https://ballonfabrik.org/veranstaltungen/lesung_weissingerkubik/
LOCATION:Ballonfabrik\, Austraße 27\, Augsburg\, Germany
CATEGORIES:Lesung
END:VEVENT
BEGIN:VEVENT
DTSTART;TZID=Europe/Berlin:20221021T210000
DTEND;TZID=Europe/Berlin:20221021T233000
DTSTAMP:20260424T112929
CREATED:20220519T053225Z
LAST-MODIFIED:20220929T075335Z
UID:2441-1666386000-1666395000@ballonfabrik.org
SUMMARY:Razmotchiki Katushek + Neurutics
DESCRIPTION:RAZMOTCHIKI KATUSHEK  is an industrial electro duo\, conceived and nurtured by two seasoned masters of the experimental scene: Ekaterina Fedorova (Iva Nova\, ZGA\, FIGS) and Remko Muermans (ex-ZEA\, Holland). For several years they have been meticulously assembling and connecting the conceptual forms of electronics and industrial into an organic symbiosis\, presenting the audience with a deeply original product at the intersection of these two worlds of music. These two veterans of the stage will immerse you in a balmy world of analogue effects\, live and electronic rhythm\, domestic noise and the positive constructivism of soothing factory sounds. \nEkaterina Fedorova – drums\, samples\, noise objects \nRemko Muermans – noise effects\, electronics\, samples \nNeuRuTics (DE)\nDie ACOUSTIC-RUSSIAN-BEAT-BAND aus Tübingen\, Pforzheim und St. Petersburg \n\n\n\n\nDer aus St. Petersburg stammende Frontman Vadim Averianov lebt seit 20 Jahren in Deutschland\, textet aber nach wie vor in russischer Sprache\, da sich diese mit ihrer riesigen Bandbreite an Rhythmus und Dynamik angenehm vom gewohnten Deutschen oder Englischen in der Musik unterscheidet. \n\n\n\n\nAuch wer die Metaphern seiner russischen Texte nicht versteht erlebt die Kraft ihrer lyrischen Melancholie und den ungestümen Ausdruck. \nDie fünf akustischen Instrumente (Gitarre\, Kontrabass\, Cello\, Percussions und neuerdings auch Trompete) passen durch ihre variable Lautstärke in unterschiedlichstes Ambiente\, von der Eckkneipe bis in die Konzertsäle.\nDas Ziel ist dabei\, durch die akkustischen Instrumente einen trockenen treibenden Sound ohne viele Schnörkel zu kreieren. Was die Lieder trägt\, sind die Melodien des Cellos und des Sängers. \nAK: 14 € \nVVK: 14\,04 € \nSupport:\nNeuRuTics (DE)\nDie ACOUSTIC-RUSSIAN-BEAT-BAND aus Tübingen\, Pforzheim und St. Petersburg
URL:https://ballonfabrik.org/veranstaltungen/razmotchiki-katushek-karman/
LOCATION:Ballonfabrik\, Austraße 27\, Augsburg\, Germany
CATEGORIES:Akustik
ATTACH;FMTTYPE=image/jpeg:https://ballonfabrik.org/wp-content/uploads/2022/05/Razmotchiki_Header2.jpg
END:VEVENT
BEGIN:VEVENT
DTSTART;TZID=Europe/Berlin:20221022T220000
DTEND;TZID=Europe/Berlin:20221023T050000
DTSTAMP:20260424T112929
CREATED:20220519T053335Z
LAST-MODIFIED:20220826T073156Z
UID:2444-1666476000-1666501200@ballonfabrik.org
SUMMARY:Dubylonfabrik # 3 - feeding with bassline!
DESCRIPTION:///Dub///Steppers///Dubwise/// \nNach der Sommerpause lädt die neue Augsburger Dub-Reihe ‚DUBYLONFABRIK‘ zum Tanze! \nDieses Mal zu Gast: PiyaZawa an der Querflöte und I&I Dubwise\, die Dub Veteranen aus München! Mit im Gepäck ihr mächtiges\, selbstgebautes Sound System\, welches jede Location zur Erschütterung bringt. Wir freuen uns\, sie endlich in der Ballonfabrik begrüßen zu dürfen. Außerdem am Start: die Organisatoren der Session aka DUBYLONCrew (Elijah | IsarBass; Nizze-Low | Bootsmann; Pupa | Rudebwoy Tunes/Ballonfabrik) \nLine-Up \n► I&I Dubwise \n► PiyaZawa \n► DUBYLONCrew \n\nI&I DUBWISE SOUNDSYSTEM  \nI&I Dubwise ist ein „original sound system“ aus München; Resident und Veranstalter des seit über 10 Jahren monatlich stattfindenen DubClubs ‚DubTown & Fire‘ im Sunny Red\, sie bespielten bereits über 100 Sessions mit vielen Größen der internationalen Dub-Szene. Ihr Sound System haben sie über die Jahre ständig erweitert und kommt zu jeder Session mit eigenen Boxen\, Amps\, Effekten\, Equalisern und den neuesten Steppers-Tunes sowie Roots-Klassikern. In der Tradition jamaikanischer Sound Systems wird das Publikum mithilfe mächtiger Bässe und scharfer Höhen mit dem Dubvibe infiziert. Verschiedene Vokalisten und Instrumente machen jede Session Einzigartig. Dieser Style ist ein Erlebnis! Nicht nur hörbar\, sondern auch spürbar. \n PIYA ZAWA  \nPiyaZawa verzaubert jede Session mit ihrer live eingespielten Querflöte. Neben Livekonzerten ist sie auf diversen Releases von Dub Produzenten\, wie Toroki Dub\, Dandelion Soundsystem\, Dubbing Sun u.v.m. zu finden. Hinzu kommen ihre Auftritte auf zahlreichen Veranstaltungen wie dem Dub Vibration Festival\, Fusion Festival\, Dub Revolution\, Tief Frequenz Festival u.v.m
URL:https://ballonfabrik.org/veranstaltungen/dubylonfabrik-3-feeding-with-bassline/
LOCATION:Ballonfabrik\, Austraße 27\, Augsburg\, Germany
CATEGORIES:Dub
ATTACH;FMTTYPE=image/jpeg:https://ballonfabrik.org/wp-content/uploads/2022/05/signal-2022-08-24-172438.jpeg
END:VEVENT
BEGIN:VEVENT
DTSTART;TZID=Europe/Berlin:20221028T200000
DTEND;TZID=Europe/Berlin:20221029T020000
DTSTAMP:20260424T112929
CREATED:20220330T065502Z
LAST-MODIFIED:20230727T160630Z
UID:2226-1666987200-1667008800@ballonfabrik.org
SUMMARY:Sheer Cerebral Power | Ark Noir
DESCRIPTION:UPDATE: Sheer Cerebral Power müssen die Show heute Abend leider aus gesundheitlichen Gründen absagen. Ark Noir spielen dennoch. Wir bemühen uns um einen baldigen Ersatztermin.\nEintrittspreis wird auf 7€ gesenkt \nFoto © Gert Krautbauer \nSheer Cerebral Power releasen ihr Album „Sucker Punch’d“. Diese Musik ist eine Reverenz des Progressive Rock der 70er/80er/90er/00er Jahre. Stark beeinflusst von King Crimson\, Genesis der frühen 70er (die Ära von Selling England by the Pound)\, UK featuring Allan Holdsworth\, Bill Bruford\, John Wetton\, Eddie Jobson\, Rush\, Tool sowie einer gesunden Dosis Zappa.\nAlle Stücke sind thematisch an Muhammad Ali und seinem großen Kampf 1974 in Zaire inspiriert\, daher Titel wie Boma Yé\, SKIP\, Sucker Punch’d usw… Azhar Kamal begann den Schreibprozess im Jahr 2021\, als er sich hinsetzte und die 15-minütige Suite „Sucker Punch`d“ Opus 1 in Es im 5/8-Takt schrieb. Sie bildet den inhaltlichen Zusammenhang dieser Band. Alle Songs haben unregelmäßige Metren\, da die Rhythmen der Natur keine regelmäßigen Beats verwenden.\nDiese Musik ist muskulös\, aufregend\, herausfordernd\, und es ist eine Herausforderung sie zu spielen. Als Partner suchte der Prinzipalkomponist Azhar\, den aus Detroit stammenden Sänger John Jones\, der zu Azhar’s Musik die passenden Texte schrieb. Bei allen Titel hatte Azhar die Songtitel vorbestimmt und  teilweise auch Textideen\, die John Jones dann final ausarbeitete. Azhar schrieb fertige Arrangements\, die die Musiker im Sinne des vom Komponisten vorgegebenem Rahmen zum Leben erweckten. Alle Musik auf „Sucker Punch’d“ ist mit der Kernbesetzung entstanden. Gitarre\, Bass\, Schlagzeug. Einziges Tasteninstrument ist die Celesta\, ein Instrument dessen Klangfarbe der Komponist sehr liebt. \nDie Musik von Sheer Cerebral Power klingt komplex und zugänglich zugleich durch die organische Kombination von Irregular Meters(Ungeraden Taktarten) und harmonisch sehr zugänglichen Akkordstrukturen. Sie versucht\, die Grenzen der Bausteine dessen\, was Pop-Musik ausmacht\, zu erweitern und den Zuhörer auf eine Entdeckungsreise mitzunehmen\, die immer neue Aspekte zu Tage fördert. Sheer Cerebral Power „Sucker Punch’d“ ist eine Progressive Rock Symphonie. \nSupport kommt mit Ark Noir aus München. 2019 veröffentlichten Ark Noir ihr Debütalbum Tunnel Visions und sorgten schon zuvor mit der gleichnamigen Festivalreihe im Club Milla für Furore.\nZwei Remix-Alben sowie Auftritte auf renommierten Festivals in ganz Europa folgten. „Hier tanzt die Apokalypse“ schrieb NDR Info in seiner „Album der Woche“-Kritik und bei All About Jazz beschrieb man die Musik als „Astro-Jazz“. \nDie fünfköpfige Band wirkt auf den ersten Blick zwar wie ein klassisch besetztes Jazz-Quintett\, verkörpert aber mit ihrem elektronisch-alternativ-experimentellen Jazz die post-moderne Improvisationsmusik. Zwischen rau und düster\, reich an Tiefe und Texturen\, hypnotischen Beats und cineastischen Klangwelten bewegt sich ihr Sound. Er lädt dazu ein\, innezuhalten und sich im Hier und Jetzt zu verlieren.\nAuf dem neuen Album See You On The Other Side setzt sich Ark Noir mit dem Wahnsinn auseinander\, der uns tagtäglich in den Medien begegnet – von Unwetterkatastrophen\, Polizeigewalt\, von der Politik angefachter Lagerbildung bis zum alles bestimmenden Thema der letzten zwei Jahre. In ihren Kompositionen wollen die Musiker die Informationsflut filtern\, ihr Sinn einhauchen oder zumindest eine Zuflucht vor ihr bieten. \n„Rau\, gerne düster\, oft elektronisch klingend (dabei akustisch gespielt) und von Visuals begleitet\,\nvertonen sie… druckvoll und spannungsgeladen die dystopischen Aspekte der\nheutigen oder zukünftigen Gesellschaft“ – Süddeutsche Zeitung \n \nArk Noir · Tunnel Visions (Delusional Circuits Afterglow Remix)
URL:https://ballonfabrik.org/veranstaltungen/sheer-cerebral-power/
LOCATION:Ballonfabrik\, Austraße 27\, Augsburg\, Germany
CATEGORIES:Alternative,Progressive Rock
ATTACH;FMTTYPE=image/jpeg:https://ballonfabrik.org/wp-content/uploads/2022/03/SCP-Header.jpeg
END:VEVENT
BEGIN:VEVENT
DTSTART;TZID=Europe/Berlin:20221029T160000
DTEND;TZID=Europe/Berlin:20221030T030000
DTSTAMP:20260424T112929
CREATED:20220504T053755Z
LAST-MODIFIED:20220813T092126Z
UID:2350-1667059200-1667098800@ballonfabrik.org
SUMMARY:Augsburg Deathfest VII
DESCRIPTION:Das Augsburg Deathfest ist zurück!\n… und kann euch endlich die für 2020 geplante Tracht Brutalität auf die Ohren ballern! \nLine-Up: \nGoreputation (Brutal Death/Slam | NRW) \nMechamorphosis by Goreputation \nChordotomy (Slam Death Metal | Augsburg)\nSubjugated Into Obedience by Chordotomy \nMacabre Demise (One Man Death/Grind Massacre | Landshut)\nDamned To… by Macabre Demise \nBösedeath (Slam Death Metal | Darmstadt)\nCantona Facekick Festival by BÖSEDEATH \nPublic Grave (Death Metal/Slam | Fürstenfeldbruck)\nCadaverous Ressurection by Public Grave \nGutfuck (Deathgrind | Memmingen) \nInfos zum Vorverkauf: \n\nEin Ticket kostet 10 Euro.\nUm zu bestellen\, schreibt bitte eine Email an augsburgdeathfest@gmx.de mit dem Betreff „Tickets2022“\nIn der Mail bitte folgende Angaben auflisten:\nVor- und Nachname wie auf dem Ausweis\, Anschrift\, Kontakttelefonnummer (sorry\, dass wir das immer noch mit erheben\, aber niemand kann absehen\, wie das im Herbst mit Corona- Auflagen aussehen wird!)\nIhr erhaltet eine E-Mail zurück mit den PayPal- oder Banküberweisungsdaten\nNach Zahlungseingang erhaltet ihr das Ticket als PDF. Dieses kann dann am Einlass gegen ein Kontrollband getauscht werden. Hierzu wird der eindeutige Ticketcode unsererseits entwertet.\n\nDie Veranstalter des Deathfest machen das alles in Handarbeit in unserer Freizeit. Also bitte nicht wundern\, wenn es ein bisschen dauert. Jeder bekommt sein Ticket rechtzeitig übersandt. \nFall ihr schon ein Ticket habt\, aber dieses Datum nicht passt\, ist das sehr schade\, aber nachvollziehbar.\nMeldet euch bitte dann ebenfalls bei augsburgdeathfest@gmx.de mit euren Ticketcodes\, und Bankverbindung oder Paypal-Kontakt zur Rückabwicklung. Auch hier müssen wir um Geduld bitten\, aber wir kümmern uns. \nSee you in the Pit! \nNo Nazis – No Bullshit!
URL:https://ballonfabrik.org/veranstaltungen/deathfest-2/
LOCATION:Ballonfabrik\, Austraße 27\, Augsburg\, Germany
CATEGORIES:Death-Metal,Metal
ATTACH;FMTTYPE=image/jpeg:https://ballonfabrik.org/wp-content/uploads/2022/05/295951837_5119586494818958_8086067344762815517_n.jpg
END:VEVENT
BEGIN:VEVENT
DTSTART;TZID=Europe/Berlin:20221031T200000
DTEND;TZID=Europe/Berlin:20221101T013000
DTSTAMP:20260424T112929
CREATED:20220301T164112Z
LAST-MODIFIED:20220927T080858Z
UID:2144-1667246400-1667266200@ballonfabrik.org
SUMMARY:ABGESAGT: March | Danke Schatz
DESCRIPTION:UPDATE: \nAufgrund mehrerer Tourabsagen müssen March einige Konzerte\, darunter dieses\, absagen. Ein Ersatzprogramm für den 31.10 wird noch bekanntgegeben. \nMarch (NL/BE)\nAptly described as ‘Brody Dalle and John Coffey forming an EpiFat band‘\, MARCH takes bits from rock and punk to give their songs a raw edge\, a catchy twist and a positive message. This Dutch/Belgian quartet’s goal: making you go harder\, drive faster and shake the dust off your bones\, all while painting a huge smile on your face. Combining singer Fleur’s raw voice with an overload of crispy guitar riffs and a high octane rhythm section\, MARCH delivers the most intense live show this side of The Bronx. With +150 shows under their belt\, the formation has become a well-oiled live machine that thrives on stage. \n“As expected\, instruments are being manhandled\, but the raw edge on the vocals adds a unique twist to the whole. The added bits on lead guitar fit in perfectly with the punk vibe of the music.” \n– www.smashpress.nl \n2019 started on a high with the celebration of Heideroosjes’ 30 year anniversary at AB Brussels; the release of 2 new singles\, and shows in and outside NL\, including support slots for Lagwagon\, Tusky and Not On Tour. Clearly\, MARCH has grown addicted to crossing items off their bucket list. Up next: as much shows as they can muster (including 3 shows with the Descendents and 2 more sold out dates with Heideroosjes)\, with a shiny new full album on top. \nSet Loose by MARCH \nSupport: \nDankeschatz (Muc) \nEin Lamento & Jaja… by Dankeschatz
URL:https://ballonfabrik.org/veranstaltungen/march-danke-schatz/
LOCATION:Ballonfabrik\, Austraße 27\, Augsburg\, Germany
ATTACH;FMTTYPE=image/png:https://ballonfabrik.org/wp-content/uploads/2022/03/March-Header.png
END:VEVENT
BEGIN:VEVENT
DTSTART;TZID=Europe/Berlin:20221031T200000
DTEND;TZID=Europe/Berlin:20221101T020000
DTSTAMP:20260424T112929
CREATED:20221010T074351Z
LAST-MODIFIED:20260313T160819Z
UID:2978-1667246400-1667268000@ballonfabrik.org
SUMMARY:Dia de los Muertos
DESCRIPTION:Dia de los muertos\nMit Local Riot\, Endlich schlechte Musik\, John Doe and the Blackbirds.\nAuflegen werden Becks und SebFernando (Cumbica/Punk)\nEintritt: 10\,- €
URL:https://ballonfabrik.org/veranstaltungen/dia-de-los-muertos-2/
END:VEVENT
END:VCALENDAR