BEGIN:VCALENDAR
VERSION:2.0
PRODID:-//Ballonfabrik fabrik unique - ECPv6.15.17.1//NONSGML v1.0//EN
CALSCALE:GREGORIAN
METHOD:PUBLISH
X-ORIGINAL-URL:https://ballonfabrik.org
X-WR-CALDESC:Veranstaltungen für Ballonfabrik fabrik unique
REFRESH-INTERVAL;VALUE=DURATION:PT1H
X-Robots-Tag:noindex
X-PUBLISHED-TTL:PT1H
BEGIN:VTIMEZONE
TZID:Europe/Berlin
BEGIN:DAYLIGHT
TZOFFSETFROM:+0100
TZOFFSETTO:+0200
TZNAME:CEST
DTSTART:20210328T010000
END:DAYLIGHT
BEGIN:STANDARD
TZOFFSETFROM:+0200
TZOFFSETTO:+0100
TZNAME:CET
DTSTART:20211031T010000
END:STANDARD
BEGIN:DAYLIGHT
TZOFFSETFROM:+0100
TZOFFSETTO:+0200
TZNAME:CEST
DTSTART:20220327T010000
END:DAYLIGHT
BEGIN:STANDARD
TZOFFSETFROM:+0200
TZOFFSETTO:+0100
TZNAME:CET
DTSTART:20221030T010000
END:STANDARD
BEGIN:DAYLIGHT
TZOFFSETFROM:+0100
TZOFFSETTO:+0200
TZNAME:CEST
DTSTART:20230326T010000
END:DAYLIGHT
BEGIN:STANDARD
TZOFFSETFROM:+0200
TZOFFSETTO:+0100
TZNAME:CET
DTSTART:20231029T010000
END:STANDARD
END:VTIMEZONE
BEGIN:VEVENT
DTSTART;TZID=Europe/Berlin:20220902T190000
DTEND;TZID=Europe/Berlin:20220903T020000
DTSTAMP:20260424T124451
CREATED:20220202T115013Z
LAST-MODIFIED:20220811T144335Z
UID:2101-1662145200-1662170400@ballonfabrik.org
SUMMARY:Nowhere to run! 2022 Kryptos + Liquid Steel + Olymp
DESCRIPTION:Kryptos sind für ihre „Nowhere to Run“-Tour 2022 unterwegs durch Europa und machen Halt in Augsburg. \nVorverkauf: 12€\nAbendkasse: 15€ \nKRYPTOS\nDie seit 1998 unter diesem Namen aktiven Metaller aus Indien zeigen auf\, dass gerade asiatischer Schwermetall in unseren Breitengraden noch immer massiv unterschätzt wird. Mit ihrem neuesten Longplayer „Force of Danger – 2021“ lieferten sie ihre insgesamt sechste Full-length-Scheibe ab und haben so die Pandemie wohl besser genutzt als die Meisten von uns….\nAfterburner by Kryptos\nLIQUID STEEL\nÜber die Tiroler Lokalhelden brauchen wir hier wohl nicht mehr viel zu schreiben\, nachdem sie bereits seit 2009 den Heavy Metal in der Alpenrepublik hoch halten. Einfach reinhören und abfeiern!\nMountains Of Madness by Liquid Steel\nOLYMP\nOlymp sind wahr gewordener Heavy Metal\, mit treibenden Riffs\, ganz in der Tradition der 80er Jahre. Blitzsaubere Twin-Leads\, ein grölender Bass und das Hämmern der Donnerdrumms reißen schließlich auch den letzten Zuhörer mit auf den Olymp!\nOlymp E.P. by OLYMP
URL:https://ballonfabrik.org/veranstaltungen/kryptos-by-olymp/
LOCATION:Ballonfabrik\, Austraße 27\, Augsburg\, Germany
CATEGORIES:Metal
ATTACH;FMTTYPE=image/jpeg:https://ballonfabrik.org/wp-content/uploads/2022/02/kryptos.jpg
END:VEVENT
BEGIN:VEVENT
DTSTART;TZID=Europe/Berlin:20220903T203000
DTEND;TZID=Europe/Berlin:20220904T030000
DTSTAMP:20260424T124451
CREATED:20220323T100550Z
LAST-MODIFIED:20230726T184909Z
UID:2200-1662237000-1662260400@ballonfabrik.org
SUMMARY:Rollerderby-Afterparty
DESCRIPTION:„Nach dem Spiel\, ist vor dem Spiel“\, hat Sepp Herberger einmal bemerkt. Auf den Fußball mag das zutreffen\, beim Rollerderby heißt es nach dem Spiel Afterbout-Party. \nDas Augsburger Rollerderby-Team Fantastic Augsburg Rollling Thunder bestreitet sein nächstes Heimspiel gegen Rollerderby Ljubljana. Einlass für das Spiel beim TVA ist um 15 Uhr\, Anpfiff 16 Uhr. \nDie Afterparty in der Ballonfabrik beginnt ab 20:30. Die Rolling Thunder bieten dabei nicht nur eine Afterboutparty\, sondern holen auch ihre Weihnachtsfeier von 2021 nach (Weihnachtsoutfit-Rabatt!). Gefeiert wird mit Aureliano Capone (nostalgischer AkustikIndie)\, Mona Medusa\, bekannt von The Catcallas\, Dragqueen Rapha LaRue und Punkrock-Hits von den legendären Sekt Pistols. \n20.30h Aureliano Capone\n21h Mona Medusa (Singer/Songwriterin)\n22h Dragqueen Rapha LaRue beschert alle Menschen\, die mit\nWeihnachtsaccessoires zur Party kommen.\n23h The Sekt Pistols (Punk)\n23.45h DJ Presssack & Lars Laser \nEintritt 7€\, 5€ mit Bändchen vom Spiel
URL:https://ballonfabrik.org/veranstaltungen/rollerderby-afterparty/
LOCATION:Ballonfabrik\, Austraße 27\, Augsburg\, Germany
ATTACH;FMTTYPE=image/jpeg:https://ballonfabrik.org/wp-content/uploads/2022/03/299836950_1721613474842065_5788206530967110615_n.jpg
END:VEVENT
BEGIN:VEVENT
DTSTART;TZID=Europe/Berlin:20220909T193000
DTEND;TZID=Europe/Berlin:20220910T020000
DTSTAMP:20260424T124451
CREATED:20220525T054752Z
LAST-MODIFIED:20230728T183205Z
UID:2468-1662751800-1662775200@ballonfabrik.org
SUMMARY:Newcomer-Abend
DESCRIPTION:UPDATE: Einlass ist um 19 Uhr. Beginn um 20 Uhr. \nFluchtversuch (Punk\, Augsburg) \nThe Great Chapter (Metal\, Augsburg) \nBam Bam (Liedermaching\, Schrobhausen) \n  \nEintritt: 5 € \nNach zwei Jahren Pandemie und leerer Bühne finden seit dem Frühjahr wieder regelmäßig Live-Veranstaltungen bei uns statt. Dabei sind wir nicht nur nahezu ausgebucht gewesen\, sondern konnten unserer Linie treu bleiben das Programm möglichst divers zu halten. Nur eines fehlt momentan: \n2020 haben wir mit dem Backstage Pro Award auch einen Preis für unsere Nachwuchsarbeit bekommen. Dem wollen wir nun wieder gerecht werden. Wir sind uns sicher\, dass sich in den letzten beiden Jahren allerhand getan hat in Augsburgs Proberäumen\, den Kellern eurer Elternhäuser\, der Garage oder dem nächsten Jugendclub. Ihr habt euch gefunden um gemeinsam Musik zu machen ohne zu wissen wo es vielleicht hingehen soll. Kurzum: Unsere Bühne soll euch für einen eurer ersten Auftritte zur Verfügung stehen. \nDer Newcomer-Abend soll euch eine Bühne bieten um aus dem Schatten des Proberaums zu treten und euch einfach auszuprobieren\, ganz gleich ob die Akkorde schon zu 100 Prozent sitzen. Auch die Rolling Stones haben schließlich klein angefangen. Wenn ihr Lust habt an unserem Newcomer-Abend aufzutreten\, bewerbt euch in den nächsten Wochen via \nnewcomer@ballonfabrik.org. \nSchreibt uns ein paar Zeilen über euch\, einen Bandnamen wenn ihr schon einen habt und schickt wenn möglich eine kleine Audiodatei mit (Handyaufnahme reicht). Wir werden euch zeitnah über eine Teilnahme informieren. \nWir verstehen den Newcomer-Abend als jugendkulturelles Konzept\, weshalb der Eintritt auf 5€ beschränkt bleibt\, damit auch eure Freunde und Bekannten problemlos teilnehmen können.
URL:https://ballonfabrik.org/veranstaltungen/newcomerabend/
LOCATION:Ballonfabrik\, Austraße 27\, Augsburg\, Germany
ATTACH;FMTTYPE=image/png:https://ballonfabrik.org/wp-content/uploads/2022/05/buehne_leer_breitbild.png
END:VEVENT
BEGIN:VEVENT
DTSTART;TZID=Europe/Berlin:20220916T200000
DTEND;TZID=Europe/Berlin:20220917T030000
DTSTAMP:20260424T124451
CREATED:20220404T161032Z
LAST-MODIFIED:20230728T082631Z
UID:2258-1663358400-1663383600@ballonfabrik.org
SUMMARY:ATP-Crew | Der Laute Gast | Lou Zeh
DESCRIPTION:Volle Ladung HipHop erwartet euch im September bei uns. Noch dazu mit lokalen KünstlerInnen aus München und Augsburg \nDie Münchner ATP-Crew aka All the People definiert sich irgendwo zwischen Rap-Crew und losem Kollektiv aus freidenkenden Menschen. Neben der freundschaftlichen Verbundenheit der Beteiligten ist die Hauptmotivation ihres Schaffens der persönliche Ausdruck durch die Musik. \nAll The People LP by ATP Crew \nEbenfalls am Start Der Laute Gast. Der aus Würzburg stammende Rapper ist nicht nur ein lauter\, sondern willkommener Gast auf den Bühnen dieser Stadt. Neben Rap-Musik prägt den gelernten Sozialpädagogen unter dem bürgerlichen Namen Stefan Beckenbauer auch die Vermittlung von Musik an Kinder und Jugendliche. Etwa in Form von Workshops die Rap\, soziale Kompetenzen und kreatives Schreiben vereinen um jugendspezifische Inhalte zu vermitteln und aufzuarbeiten. Zuletzt entstand eine Kooperation mit der Bigband von St. Stefan für das kulturelle Rahmenprogramm zur Kanuslalom-WM in Augsburg unter dem Titel Beethoven Reconstructed. \nKindliche Ignoranz by derlauteGast \nLou Zeh kommt mit Mikrofon\, E-Gitarre\, Sampler und Analog-Synthesizer und erforscht seine Beats & die Gegenwart live und direkt. Immer funky! \n \nLou Zeh · Cruisin´ with Mr. Lou\n  \nAbendkasse: 9€
URL:https://ballonfabrik.org/veranstaltungen/atp-crew-va/
LOCATION:Ballonfabrik\, Austraße 27\, Augsburg\, Germany
CATEGORIES:HipHop
ATTACH;FMTTYPE=image/jpeg:https://ballonfabrik.org/wp-content/uploads/2022/04/193246141_170304058434665_911861020565263176_n.jpg
END:VEVENT
BEGIN:VEVENT
DTSTART;TZID=Europe/Berlin:20220923T200000
DTEND;TZID=Europe/Berlin:20220924T020000
DTSTAMP:20260424T124451
CREATED:20220225T061500Z
LAST-MODIFIED:20230728T082532Z
UID:2132-1663963200-1663984800@ballonfabrik.org
SUMMARY:Gogo Gazelle + Plan B
DESCRIPTION:Go Go Gazelle sind ein Augsburger Indiepunk-Trio. Die 2017 zusammengefundene Band veröffentlichte seither eine Reihe von EPs zusammen mit anderen bekannten Musikern. Konzerte fielen der Pandemie zum Opfer. Die Zeit nutzte Go Go Gazelle und begab sich ins Studio um im Februar 2022 den Track Instinkte zu veröffentlichen. Wie gut das die drei Musiker im September unsere Bühne aufsuchen\, um der aufgestauten Musiklust der letzten beiden Jahre freien Lauf zu lassen. \n \nSupport kommt von Plan B\, ebenfalls Augsburger und seit 2005 unterwegs in Sachen Punkrock. Die drei Jungs und die Ballonfabrik haben was gemeinsam. Während wir bereits 2020 den Roy-Preis in der Kategorie Club des Jahres abgestaubt haben\, bekamen Plan B vergangenes Jahr den Roystart Pop in der Kategorie Tour. Trotzdem sind die drei Musiker auf dem Boden geblieben und besuchen noch die heimischen kleinen Bühnen\, bevor die großen Bühnen dieser Welt rufen. \n \n  \nEintritt: 10-12€
URL:https://ballonfabrik.org/veranstaltungen/gogogazelle-plan-b/
LOCATION:Ballonfabrik\, Austraße 27\, Augsburg\, Germany
CATEGORIES:Indie
ATTACH;FMTTYPE=image/jpeg:https://ballonfabrik.org/wp-content/uploads/2022/02/Go_Go_Gazelle_Pressefoto1_by_Sonja_Möller_Konzertsucht.jpg
END:VEVENT
BEGIN:VEVENT
DTSTART;TZID=Europe/Berlin:20220924T200000
DTEND;TZID=Europe/Berlin:20220925T050000
DTSTAMP:20260424T124451
CREATED:20220622T062236Z
LAST-MODIFIED:20220919T090226Z
UID:2550-1664049600-1664082000@ballonfabrik.org
SUMMARY:Tekkno & Psy: Scheiterhaufen SoundSystem
DESCRIPTION:Loco52 [Break Beats]\nLotus000 [Break Beats]\nhttps://soundcloud.com/user-160418145\nINNCNT [Hardtechno/ Hardtrance]\nhttps://soundcloud.com/rainer-sonnefeld\nSyst23mGlitch [Tribe/ Tekno]\nKobus23 [Tekno/ Psytrance]\nhttps://soundcloud.com/dvzlf8f8xr4a\nRazorRave [Psytrance]\nhttps://soundcloud.com/razorrave\n\n\nArtists&Crew: 5 EUR\nFaire Preise an der Bar\nP.S.: Come Early And Stay Late! See You Soon <23
URL:https://ballonfabrik.org/veranstaltungen/tekkno-psy/
LOCATION:Ballonfabrik\, Austraße 27\, Augsburg\, Germany
ATTACH;FMTTYPE=image/png:https://ballonfabrik.org/wp-content/uploads/2022/06/22-09-24_FlyerSH23.png
END:VEVENT
BEGIN:VEVENT
DTSTART;TZID=Europe/Berlin:20220928T190000
DTEND;TZID=Europe/Berlin:20220928T230000
DTSTAMP:20260424T124451
CREATED:20220908T052151Z
LAST-MODIFIED:20220919T085545Z
UID:2880-1664391600-1664406000@ballonfabrik.org
SUMMARY:Blues@Ballonfabrik
DESCRIPTION:Zu Blues tanzen von frei und solo aber auch im Paar ist eine Entdeckungsreise.\nDabei lässt sich die eigene Anatomie in Bewegung erkunden\, verschiedenste Arten der Verbindung mit anderen und vielschichtige Musik als Brücke zwischen unterschiedlichen Kulturen. Wenn ihr neugierig seid\, oder einfach für eine Zeit im Hier und Jetzt abtauchen wollt\, seid ihr herzlich eingeladen.
URL:https://ballonfabrik.org/veranstaltungen/tanzabend/
LOCATION:Ballonfabrik\, Austraße 27\, Augsburg\, Germany
ATTACH;FMTTYPE=image/png:https://ballonfabrik.org/wp-content/uploads/2022/09/BluesBallonfabrik.svg_.png
END:VEVENT
BEGIN:VEVENT
DTSTART;TZID=Europe/Berlin:20220930T200000
DTEND;TZID=Europe/Berlin:20221002T040000
DTSTAMP:20260424T124451
CREATED:20220622T062138Z
LAST-MODIFIED:20220927T123140Z
UID:2548-1664568000-1664683200@ballonfabrik.org
SUMMARY:AUSVERKAUFT: Young and Cold Festival
DESCRIPTION:Mehr als drei Jahre ist der Zauber der Augsburger Waver Familie her. Sensationelle Festivals und Bands die uns in den Jahren 2013 – 2019 die Ehre erwiesen. Einige von Ihnen sind heute ganz große Nummern auf der Welt und dank Ihnen erlebt die Szene einen frischen Wind.\nDer Flair der Ballonfabrik macht das einzig wahre Y&C Festival aus.\nAber was wäre das Y&C ohne euch wundervolle Gäste aus aller Welt?\nLasst uns gemeinsam die Reise weiter führen!\nWir laden euch herzlich ein zum Young and Cold Festival \nFreitag / 30.September – Einlass 20h\n21:00 – Videotraum / Darkwave (Germany)\n22:30 – JE T’AIME / Coldwave (France)\nAb ca. 0h – Bunkersyndikat DJs and Deca Dance DJs \nSamstag / 1. Oktober – Einlass 19h\n20:00 – Isla Ola​ / Experimental Wave (Germany)\n21:30 – Poison Point / Darkwave (France)\n23:00 – The Glass Beads / Darkwave (Ukraina)\nAb ca. 0h – Bunkersyndikat DJs and Deca Dance DJs \nVorverkauf: Preis 26\,50 € zzgl. Versand
URL:https://ballonfabrik.org/veranstaltungen/jung-and-cold-festival-dacadance/
LOCATION:Ballonfabrik\, Austraße 27\, Augsburg\, Germany
CATEGORIES:Goth,Post-Punk,Underground,Wave
ATTACH;FMTTYPE=image/jpeg:https://ballonfabrik.org/wp-content/uploads/2022/06/278121490_4908511542551740_5058471107852073628_n.jpg
END:VEVENT
END:VCALENDAR