BEGIN:VCALENDAR
VERSION:2.0
PRODID:-//Ballonfabrik fabrik unique - ECPv6.15.17.1//NONSGML v1.0//EN
CALSCALE:GREGORIAN
METHOD:PUBLISH
X-ORIGINAL-URL:https://ballonfabrik.org
X-WR-CALDESC:Veranstaltungen für Ballonfabrik fabrik unique
REFRESH-INTERVAL;VALUE=DURATION:PT1H
X-Robots-Tag:noindex
X-PUBLISHED-TTL:PT1H
BEGIN:VTIMEZONE
TZID:Europe/Berlin
BEGIN:DAYLIGHT
TZOFFSETFROM:+0100
TZOFFSETTO:+0200
TZNAME:CEST
DTSTART:20210328T010000
END:DAYLIGHT
BEGIN:STANDARD
TZOFFSETFROM:+0200
TZOFFSETTO:+0100
TZNAME:CET
DTSTART:20211031T010000
END:STANDARD
BEGIN:DAYLIGHT
TZOFFSETFROM:+0100
TZOFFSETTO:+0200
TZNAME:CEST
DTSTART:20220327T010000
END:DAYLIGHT
BEGIN:STANDARD
TZOFFSETFROM:+0200
TZOFFSETTO:+0100
TZNAME:CET
DTSTART:20221030T010000
END:STANDARD
BEGIN:DAYLIGHT
TZOFFSETFROM:+0100
TZOFFSETTO:+0200
TZNAME:CEST
DTSTART:20230326T010000
END:DAYLIGHT
BEGIN:STANDARD
TZOFFSETFROM:+0200
TZOFFSETTO:+0100
TZNAME:CET
DTSTART:20231029T010000
END:STANDARD
END:VTIMEZONE
BEGIN:VEVENT
DTSTART;TZID=Europe/Berlin:20220806T190000
DTEND;TZID=Europe/Berlin:20220807T020000
DTSTAMP:20260424T141339
CREATED:20220504T053848Z
LAST-MODIFIED:20260313T154111Z
UID:2352-1659812400-1659837600@ballonfabrik.org
SUMMARY:Balls on Fabrik returns
DESCRIPTION:Nach über 2 Jahren kehrt das Balls zurück. Mit einem Haufen alter Bekannter. Wobei der Haufen gar nicht so groß ist.\nAVATOR werden aus Gründen von Personalmangel mit den Kollegen aus Publikum und Bands vor Ort für spontane Kurzweil sorgen. \nReturn Of The Beast by Avator \nPAXTILENCE werden euch thrashig mitreissen. \nWildfire by Paxtilence \nRAPTURE werden euch zum Grindpoptanz bitten \nOktohymns by Rapture (Munich) \nUnd bei SOBER TRUTH lassen wir uns alle überraschen \nLaissez Faire\, Lucifer! by SOBER TRUTH
URL:https://ballonfabrik.org/veranstaltungen/balls-on-fabrik/
LOCATION:Ballonfabrik\, Austraße 27\, Augsburg\, Germany
CATEGORIES:Black-Metal,Death-Metal,Metal
END:VEVENT
BEGIN:VEVENT
DTSTART;TZID=Europe/Berlin:20220810T200000
DTEND;TZID=Europe/Berlin:20220811T030000
DTSTAMP:20260424T141339
CREATED:20220404T160518Z
LAST-MODIFIED:20220718T070232Z
UID:2254-1660161600-1660186800@ballonfabrik.org
SUMMARY:No Trigger
DESCRIPTION:NO TRIGGER aus Massachusetts stoppen in Augsburg! Geiler melodischer Hardcore/Punkrock mit korrekten Texten und gegen Faschos. \nMit ihrem Strike-Anywhere-beeinflussten Melodic Hardcore hat sich die Band seit ihrer Gründung im Jahre 2001 einen Namen erspielt\, der sich spätestens seit Release der zwei monumentalen Alben Canyoneer und Tycoon aus der internationalen Punkrocklandschaft nicht mehr wegdenken lässt. \nDanach wurde es etwas ruhiger um die Band\, 2017 folgte eine kleine\, aber feine EP und 2022 endlich das nächste Album – dieses wird auf der aktuellen Tour vorgestellt. Die vorab veröffentliche Single „Antifantasy“ macht mit dem buchstabierten Refrain A N T I – N A Z I das politische Bestreben der Band deutlich und liefert dazu noch wie gewohnt flotte Drumbeats und hymnische Melodien. \nAcid Lord EP by No Trigger \n \nSupport kommt von Cheap Jake aus Augsburg\, die ihre Gage an Hilfsprojekte für die Menschen in der Ukraine spenden. \n \n 
URL:https://ballonfabrik.org/veranstaltungen/no-trigger/
LOCATION:Ballonfabrik\, Austraße 27\, Augsburg\, Germany
ATTACH;FMTTYPE=image/png:https://ballonfabrik.org/wp-content/uploads/2022/04/no-triggerP.png
END:VEVENT
BEGIN:VEVENT
DTSTART;TZID=Europe/Berlin:20220813T210000
DTEND;TZID=Europe/Berlin:20220814T050000
DTSTAMP:20260424T141339
CREATED:20220519T053126Z
LAST-MODIFIED:20220718T075704Z
UID:2439-1660424400-1660453200@ballonfabrik.org
SUMMARY:Deca Dance - Live: QEK Junior
DESCRIPTION:goth – wave – minimal – synth – underground 80s – post punk \nlive: QEK JUNIOR\nQEK Junior entstanden im Herbst 2005 “zufällig”\, als Dominic Daub seine damalige Band verlassen hatte und während des Schreibens seiner Magister-Arbeit nach neuen Ausdrucksformen suchte. Die ersten Stücke\, die mit einem alten Sequenzer und noch älteren Synthies entstanden\, wurden bei Myspace online gestellt. Das daraufhin eine Konzertanfrage aus England kommen sollte\, hat niemand ernsthaft erwartet – auch Tobias nicht\, der seitdem der zweite Kopf von QEK Junior ist. Die Stücke wurden auf einer Demo-CDR mit dem Titel “Deutschstunde” zusammengefasst. Den anschließenden Konzerten in Bradford und Leeds folgten weitere Gigs in ganz Deutschland und die Veröffentlichung von “1/0”\, “Yoshiwara”\, “Atomkonsens” und “Kurz und schmerzlos” auf einer vom Kernkrach-Label veröffentlichten Vinyl-E.P.. \nDruschba by QEK Junior \n  \nEintritt: \n-mit Konzert (22 Uhr): 8€\n-nur Party: 6€ \n 
URL:https://ballonfabrik.org/veranstaltungen/decadance/
LOCATION:Ballonfabrik\, Austraße 27\, Augsburg\, Germany
CATEGORIES:Goth,Post-Punk,Underground,Wave
ATTACH;FMTTYPE=image/png:https://ballonfabrik.org/wp-content/uploads/2021/10/decadance.png
END:VEVENT
END:VCALENDAR